BEGIN:VCALENDAR
VERSION:2.0
PRODID:-//Arndt-Gymnasium Dahlem - ECPv6.15.14//NONSGML v1.0//EN
CALSCALE:GREGORIAN
METHOD:PUBLISH
X-WR-CALNAME:Arndt-Gymnasium Dahlem
X-ORIGINAL-URL:https://arndt-gymnasium.de
X-WR-CALDESC:Veranstaltungen für Arndt-Gymnasium Dahlem
REFRESH-INTERVAL;VALUE=DURATION:PT1H
X-Robots-Tag:noindex
X-PUBLISHED-TTL:PT1H
BEGIN:VTIMEZONE
TZID:Europe/Berlin
BEGIN:DAYLIGHT
TZOFFSETFROM:+0100
TZOFFSETTO:+0200
TZNAME:CEST
DTSTART:20240331T010000
END:DAYLIGHT
BEGIN:STANDARD
TZOFFSETFROM:+0200
TZOFFSETTO:+0100
TZNAME:CET
DTSTART:20241027T010000
END:STANDARD
BEGIN:DAYLIGHT
TZOFFSETFROM:+0100
TZOFFSETTO:+0200
TZNAME:CEST
DTSTART:20250330T010000
END:DAYLIGHT
BEGIN:STANDARD
TZOFFSETFROM:+0200
TZOFFSETTO:+0100
TZNAME:CET
DTSTART:20251026T010000
END:STANDARD
BEGIN:DAYLIGHT
TZOFFSETFROM:+0100
TZOFFSETTO:+0200
TZNAME:CEST
DTSTART:20260329T010000
END:DAYLIGHT
BEGIN:STANDARD
TZOFFSETFROM:+0200
TZOFFSETTO:+0100
TZNAME:CET
DTSTART:20261025T010000
END:STANDARD
END:VTIMEZONE
BEGIN:VEVENT
DTSTART;VALUE=DATE:20251018
DTEND;VALUE=DATE:20251103
DTSTAMP:20260421T164645
CREATED:20250923T085956Z
LAST-MODIFIED:20250923T085956Z
UID:11009-1760745600-1762127999@arndt-gymnasium.de
SUMMARY:Herbstferien
DESCRIPTION:
URL:https://arndt-gymnasium.de/event/herbstferien/
END:VEVENT
BEGIN:VEVENT
DTSTART;VALUE=DATE:20251103
DTEND;VALUE=DATE:20251104
DTSTAMP:20260421T164645
CREATED:20250923T091424Z
LAST-MODIFIED:20250923T091424Z
UID:11011-1762128000-1762214399@arndt-gymnasium.de
SUMMARY:Vorbereitung "Jugend debattiert"
DESCRIPTION:
URL:https://arndt-gymnasium.de/event/vorbereitung-jugend-debattiert/
END:VEVENT
BEGIN:VEVENT
DTSTART;VALUE=DATE:20251104
DTEND;VALUE=DATE:20251106
DTSTAMP:20260421T164645
CREATED:20250923T091852Z
LAST-MODIFIED:20250923T091852Z
UID:11013-1762214400-1762387199@arndt-gymnasium.de
SUMMARY:Wettbewerb "Jugend debattiert"
DESCRIPTION:
URL:https://arndt-gymnasium.de/event/wettbewerb-jugend-debattiert/
END:VEVENT
BEGIN:VEVENT
DTSTART;VALUE=DATE:20251106
DTEND;VALUE=DATE:20251107
DTSTAMP:20260421T164645
CREATED:20250923T091929Z
LAST-MODIFIED:20250923T091929Z
UID:11015-1762387200-1762473599@arndt-gymnasium.de
SUMMARY:Klausuren GK Q1/Q3
DESCRIPTION:
URL:https://arndt-gymnasium.de/event/klausuren-gk-q1-q3/
END:VEVENT
BEGIN:VEVENT
DTSTART;VALUE=DATE:20251108
DTEND;VALUE=DATE:20251109
DTSTAMP:20260421T164645
CREATED:20250923T092003Z
LAST-MODIFIED:20250923T092003Z
UID:11017-1762560000-1762646399@arndt-gymnasium.de
SUMMARY:Musik: Grades Prüfungen
DESCRIPTION:
URL:https://arndt-gymnasium.de/event/musik-grades-pruefungen-7/
END:VEVENT
BEGIN:VEVENT
DTSTART;VALUE=DATE:20251108
DTEND;VALUE=DATE:20251109
DTSTAMP:20260421T164645
CREATED:20250923T092034Z
LAST-MODIFIED:20250923T092034Z
UID:11019-1762560000-1762646399@arndt-gymnasium.de
SUMMARY:Nachklausuren
DESCRIPTION:
URL:https://arndt-gymnasium.de/event/nachklausuren/
END:VEVENT
BEGIN:VEVENT
DTSTART;VALUE=DATE:20251110
DTEND;VALUE=DATE:20251111
DTSTAMP:20260421T164645
CREATED:20250923T092058Z
LAST-MODIFIED:20250923T092058Z
UID:11021-1762732800-1762819199@arndt-gymnasium.de
SUMMARY:Klausuren GK Q1/Q3
DESCRIPTION:
URL:https://arndt-gymnasium.de/event/klausuren-gk-q1-q3-2/
END:VEVENT
BEGIN:VEVENT
DTSTART;VALUE=DATE:20251111
DTEND;VALUE=DATE:20251112
DTSTAMP:20260421T164645
CREATED:20250923T092118Z
LAST-MODIFIED:20250923T092118Z
UID:11023-1762819200-1762905599@arndt-gymnasium.de
SUMMARY:Klausuren GK Q1/Q3
DESCRIPTION:
URL:https://arndt-gymnasium.de/event/klausuren-gk-q1-q3-3/
END:VEVENT
BEGIN:VEVENT
DTSTART;TZID=Europe/Berlin:20251111T144500
DTEND;TZID=Europe/Berlin:20251111T161500
DTSTAMP:20260421T164645
CREATED:20251010T104810Z
LAST-MODIFIED:20251010T104810Z
UID:11249-1762872300-1762877700@arndt-gymnasium.de
SUMMARY:Sitzung der Fachverantwortlichen (FKL\, FL\, FBL)
DESCRIPTION:
URL:https://arndt-gymnasium.de/event/sitzung-der-fachverantwortlichen-fkl-fl-fbl/
END:VEVENT
BEGIN:VEVENT
DTSTART;VALUE=DATE:20251112
DTEND;VALUE=DATE:20251113
DTSTAMP:20260421T164645
CREATED:20250923T092136Z
LAST-MODIFIED:20250923T092136Z
UID:11025-1762905600-1762991999@arndt-gymnasium.de
SUMMARY:Klausuren GK Q1/Q3
DESCRIPTION:
URL:https://arndt-gymnasium.de/event/klausuren-gk-q1-q3-4/
END:VEVENT
BEGIN:VEVENT
DTSTART;TZID=Europe/Berlin:20251113T190000
DTEND;TZID=Europe/Berlin:20251113T190000
DTSTAMP:20260421T164645
CREATED:20250923T092227Z
LAST-MODIFIED:20250923T142255Z
UID:11027-1763060400-1763060400@arndt-gymnasium.de
SUMMARY:Herbst-Concertino\, 1. Abend
DESCRIPTION:
URL:https://arndt-gymnasium.de/event/herbst-concertino-1-abend/
END:VEVENT
BEGIN:VEVENT
DTSTART;VALUE=DATE:20251114
DTEND;VALUE=DATE:20251115
DTSTAMP:20260421T164645
CREATED:20250923T092432Z
LAST-MODIFIED:20250923T092432Z
UID:11031-1763078400-1763164799@arndt-gymnasium.de
SUMMARY:letzter Abgabetermin Anträge 5. PK beom OKO
DESCRIPTION:
URL:https://arndt-gymnasium.de/event/letzter-abgabetermin-antraege-5-pk-beom-oko/
END:VEVENT
BEGIN:VEVENT
DTSTART;TZID=Europe/Berlin:20251114T190000
DTEND;TZID=Europe/Berlin:20251114T190000
DTSTAMP:20260421T164645
CREATED:20250923T092308Z
LAST-MODIFIED:20251111T111418Z
UID:11029-1763146800-1763146800@arndt-gymnasium.de
SUMMARY:**** Ausfall (Herbst-Concertino\, 2. Abend)
DESCRIPTION:Der zweite Abend findet nicht statt! Bitte nur zum ersten Abend kommen.
URL:https://arndt-gymnasium.de/event/herbst-concertino-2-abend/
END:VEVENT
BEGIN:VEVENT
DTSTART;VALUE=DATE:20251115
DTEND;VALUE=DATE:20251116
DTSTAMP:20260421T164645
CREATED:20250923T092601Z
LAST-MODIFIED:20250923T143657Z
UID:11033-1763164800-1763251199@arndt-gymnasium.de
SUMMARY:Nachklausuren LK/GK
DESCRIPTION:
URL:https://arndt-gymnasium.de/event/nachklausuren-lk-gk-4/
END:VEVENT
BEGIN:VEVENT
DTSTART;VALUE=DATE:20251117
DTEND;VALUE=DATE:20251118
DTSTAMP:20260421T164645
CREATED:20250923T092626Z
LAST-MODIFIED:20250923T092626Z
UID:11035-1763337600-1763423999@arndt-gymnasium.de
SUMMARY:Klausuren GK Q1/Q3
DESCRIPTION:
URL:https://arndt-gymnasium.de/event/klausuren-gk-q1-q3-5/
END:VEVENT
BEGIN:VEVENT
DTSTART;TZID=Europe/Berlin:20251117T160000
DTEND;TZID=Europe/Berlin:20251117T180000
DTSTAMP:20260421T164645
CREATED:20250923T092736Z
LAST-MODIFIED:20250923T092736Z
UID:11037-1763395200-1763402400@arndt-gymnasium.de
SUMMARY:Marktplatz Klasse 5 Gymnasium Steglitz
DESCRIPTION:
URL:https://arndt-gymnasium.de/event/marktplatz-klasse-5-gymnasium-steglitz/
END:VEVENT
BEGIN:VEVENT
DTSTART;VALUE=DATE:20251119
DTEND;VALUE=DATE:20251120
DTSTAMP:20260421T164645
CREATED:20250923T092812Z
LAST-MODIFIED:20250923T092812Z
UID:11039-1763510400-1763596799@arndt-gymnasium.de
SUMMARY:Klausuren GK Q1/Q3
DESCRIPTION:
URL:https://arndt-gymnasium.de/event/klausuren-gk-q1-q3-6/
END:VEVENT
BEGIN:VEVENT
DTSTART;VALUE=DATE:20251119
DTEND;VALUE=DATE:20251123
DTSTAMP:20260421T164645
CREATED:20250502T155605Z
LAST-MODIFIED:20250502T155605Z
UID:10580-1763510400-1763855999@arndt-gymnasium.de
SUMMARY:BERMUN
DESCRIPTION:Ab 3. Stunde
URL:https://arndt-gymnasium.de/event/bermun-6/
CATEGORIES:Schulveranstaltungen (intern)
END:VEVENT
BEGIN:VEVENT
DTSTART;VALUE=DATE:20251120
DTEND;VALUE=DATE:20251121
DTSTAMP:20260421T164645
CREATED:20250923T141804Z
LAST-MODIFIED:20250923T141804Z
UID:11043-1763596800-1763683199@arndt-gymnasium.de
SUMMARY:Klausuren GK D Q1
DESCRIPTION:
URL:https://arndt-gymnasium.de/event/klausuren-gk-d-q1/
END:VEVENT
BEGIN:VEVENT
DTSTART;VALUE=DATE:20251120
DTEND;VALUE=DATE:20251121
DTSTAMP:20260421T164645
CREATED:20250923T141837Z
LAST-MODIFIED:20250923T141837Z
UID:11045-1763596800-1763683199@arndt-gymnasium.de
SUMMARY:Klausuren GK Q3
DESCRIPTION:
URL:https://arndt-gymnasium.de/event/klausuren-gk-q3/
END:VEVENT
BEGIN:VEVENT
DTSTART;TZID=Europe/Berlin:20251120T153000
DTEND;TZID=Europe/Berlin:20251120T153000
DTSTAMP:20260421T164645
CREATED:20250923T141918Z
LAST-MODIFIED:20250923T142203Z
UID:11047-1763652600-1763652600@arndt-gymnasium.de
SUMMARY:2. GK
DESCRIPTION:
URL:https://arndt-gymnasium.de/event/2-gk/
END:VEVENT
BEGIN:VEVENT
DTSTART;TZID=Europe/Berlin:20251120T190000
DTEND;TZID=Europe/Berlin:20251120T190000
DTSTAMP:20260421T164645
CREATED:20250923T142412Z
LAST-MODIFIED:20250923T142412Z
UID:11052-1763665200-1763665200@arndt-gymnasium.de
SUMMARY:UBB bei 54. Jazznight Goethe-Gymnasium
DESCRIPTION:
URL:https://arndt-gymnasium.de/event/ubb-bei-54-jazznight-goethe-gymnasium-2/
END:VEVENT
BEGIN:VEVENT
DTSTART;TZID=Europe/Berlin:20251121T190000
DTEND;TZID=Europe/Berlin:20251121T190000
DTSTAMP:20260421T164645
CREATED:20250923T142122Z
LAST-MODIFIED:20250923T142122Z
UID:11049-1763751600-1763751600@arndt-gymnasium.de
SUMMARY:UBB bei 54. Jazznight Goethe-Gymnasium
DESCRIPTION:
URL:https://arndt-gymnasium.de/event/ubb-bei-54-jazznight-goethe-gymnasium/
END:VEVENT
BEGIN:VEVENT
DTSTART;VALUE=DATE:20251122
DTEND;VALUE=DATE:20251123
DTSTAMP:20260421T164645
CREATED:20250923T142442Z
LAST-MODIFIED:20250923T142442Z
UID:11054-1763769600-1763855999@arndt-gymnasium.de
SUMMARY:Nachklausuren LK/GK
DESCRIPTION:
URL:https://arndt-gymnasium.de/event/nachklausuren-lk-gk-5/
END:VEVENT
BEGIN:VEVENT
DTSTART;VALUE=DATE:20251123
DTEND;VALUE=DATE:20251124
DTSTAMP:20260421T164645
CREATED:20250923T142516Z
LAST-MODIFIED:20250923T142516Z
UID:11056-1763856000-1763942399@arndt-gymnasium.de
SUMMARY:Bigbands beim Berliner Jazztreff
DESCRIPTION:
URL:https://arndt-gymnasium.de/event/bigbands-beim-berliner-jazztreff/
END:VEVENT
BEGIN:VEVENT
DTSTART;VALUE=DATE:20251125
DTEND;VALUE=DATE:20251126
DTSTAMP:20260421T164645
CREATED:20250923T142550Z
LAST-MODIFIED:20250923T142550Z
UID:11058-1764028800-1764115199@arndt-gymnasium.de
SUMMARY:Klausuren GK M Q1/Q3
DESCRIPTION:
URL:https://arndt-gymnasium.de/event/klausuren-gk-m-q1-q3/
END:VEVENT
BEGIN:VEVENT
DTSTART;TZID=Europe/Berlin:20251125T190000
DTEND;TZID=Europe/Berlin:20251125T210000
DTSTAMP:20260421T164645
CREATED:20251002T080353Z
LAST-MODIFIED:20251106T064022Z
UID:11155-1764097200-1764104400@arndt-gymnasium.de
SUMMARY:2. GEV
DESCRIPTION:
URL:https://arndt-gymnasium.de/event/2-gev-2/
END:VEVENT
BEGIN:VEVENT
DTSTART;TZID=Europe/Berlin:20251126T180000
DTEND;TZID=Europe/Berlin:20251126T200000
DTSTAMP:20260421T164645
CREATED:20250923T142635Z
LAST-MODIFIED:20251106T180751Z
UID:11060-1764180000-1764187200@arndt-gymnasium.de
SUMMARY:Informationsabend für zukünftige 5. Klasse
DESCRIPTION:Infoabend (für die zukünftige 5. Klasse) am Mittwoch\, dem 26.11.25\, von 18-20 Uhr \nWir laden Euch\, liebe Schüler\, zusammen mit Euren Eltern ganz herzlich zu unserem Infoabend ein.  \nIhr habt die Gelegenheit\, unsere Schule näher kennenzulernen und unsere Fachbereiche in Aktion zu erleben: Viele außergewöhnliche Projekte werden vorgeführt. Außerdem könnt Ihr an einer Schnupperstunde Latein teilnehmen und der Fachbereich Musik bietet Euch die besondere Gelegenheit\, verschiedene Musikinstrumente auszuprobieren.  \nDie Schüler unserer Schule werden Euch gerne durchs Haus führen. \nEin vielseitiges Programm erwartet Euch. Ein Besuch lohnt sich. \nWir freuen uns sehr auf Euch! \n(Um 18.00 Uhr findet in der Aula eine zentrale Informationsveranstaltung statt.)
URL:https://arndt-gymnasium.de/event/informationsabend-fuer-zukuenftige-5-klasse/
END:VEVENT
BEGIN:VEVENT
DTSTART;VALUE=DATE:20251127
DTEND;VALUE=DATE:20251128
DTSTAMP:20260421T164645
CREATED:20250923T142705Z
LAST-MODIFIED:20250923T142705Z
UID:11062-1764201600-1764287999@arndt-gymnasium.de
SUMMARY:Klausuren GK Q1
DESCRIPTION:
URL:https://arndt-gymnasium.de/event/klausuren-gk-q1/
END:VEVENT
BEGIN:VEVENT
DTSTART;VALUE=DATE:20251127
DTEND;VALUE=DATE:20251128
DTSTAMP:20260421T164645
CREATED:20250923T142757Z
LAST-MODIFIED:20250923T142757Z
UID:11064-1764201600-1764287999@arndt-gymnasium.de
SUMMARY:Klausuren GK D Q3
DESCRIPTION:
URL:https://arndt-gymnasium.de/event/klausuren-gk-d-q3/
END:VEVENT
END:VCALENDAR