BEGIN:VCALENDAR
VERSION:2.0
PRODID:-//Arndt-Gymnasium Dahlem - ECPv6.15.14//NONSGML v1.0//EN
CALSCALE:GREGORIAN
METHOD:PUBLISH
X-ORIGINAL-URL:https://arndt-gymnasium.de
X-WR-CALDESC:Veranstaltungen für Arndt-Gymnasium Dahlem
REFRESH-INTERVAL;VALUE=DURATION:PT1H
X-Robots-Tag:noindex
X-PUBLISHED-TTL:PT1H
BEGIN:VTIMEZONE
TZID:Europe/Berlin
BEGIN:DAYLIGHT
TZOFFSETFROM:+0100
TZOFFSETTO:+0200
TZNAME:CEST
DTSTART:20240331T010000
END:DAYLIGHT
BEGIN:STANDARD
TZOFFSETFROM:+0200
TZOFFSETTO:+0100
TZNAME:CET
DTSTART:20241027T010000
END:STANDARD
BEGIN:DAYLIGHT
TZOFFSETFROM:+0100
TZOFFSETTO:+0200
TZNAME:CEST
DTSTART:20250330T010000
END:DAYLIGHT
BEGIN:STANDARD
TZOFFSETFROM:+0200
TZOFFSETTO:+0100
TZNAME:CET
DTSTART:20251026T010000
END:STANDARD
BEGIN:DAYLIGHT
TZOFFSETFROM:+0100
TZOFFSETTO:+0200
TZNAME:CEST
DTSTART:20260329T010000
END:DAYLIGHT
BEGIN:STANDARD
TZOFFSETFROM:+0200
TZOFFSETTO:+0100
TZNAME:CET
DTSTART:20261025T010000
END:STANDARD
END:VTIMEZONE
BEGIN:VEVENT
DTSTART;VALUE=DATE:20250602
DTEND;VALUE=DATE:20250605
DTSTAMP:20260423T124259
CREATED:20240919T113235Z
LAST-MODIFIED:20250114T075359Z
UID:9906-1748822400-1749081599@arndt-gymnasium.de
SUMMARY:Prüfungen in der 5. PK
DESCRIPTION:vereinzelt Unterricht\, Klassenarbeiten\, KSL nach Absprache\, Berufsberatung Q2
URL:https://arndt-gymnasium.de/event/pruefungen-in-der-5-pk-4/
END:VEVENT
BEGIN:VEVENT
DTSTART;TZID=Europe/Berlin:20250602T090000
DTEND;TZID=Europe/Berlin:20250602T090000
DTSTAMP:20260423T124259
CREATED:20250427T162250Z
LAST-MODIFIED:20250427T162250Z
UID:10535-1748854800-1748854800@arndt-gymnasium.de
SUMMARY:Spätestens: Abgabe der Prüfungsaufgaben im 4. PF durch die Fachverantwortlichen beim OKO
DESCRIPTION:
URL:https://arndt-gymnasium.de/event/spaetestens-abgabe-der-pruefungsaufgaben-im-4-pf-durch-die-fachverantwortlichen-beim-oko/
CATEGORIES:Abitur
END:VEVENT
BEGIN:VEVENT
DTSTART;VALUE=DATE:20250604
DTEND;VALUE=DATE:20250605
DTSTAMP:20260423T124259
CREATED:20240919T125255Z
LAST-MODIFIED:20250427T162157Z
UID:9961-1748995200-1749081599@arndt-gymnasium.de
SUMMARY:Zentraler Nachschreibetermin Mathematik (LK/3. PF)
DESCRIPTION:
URL:https://arndt-gymnasium.de/event/zentraler-nachschreibetermin-mathematik-lk-3-pf-spaetestens-abgabe-der-pruefungsaufgaben-im-4-pf-durch-die-fachverantwortlichen-beim-oko/
END:VEVENT
BEGIN:VEVENT
DTSTART;VALUE=DATE:20250604
DTEND;VALUE=DATE:20250605
DTSTAMP:20260423T124259
CREATED:20240919T125404Z
LAST-MODIFIED:20240919T125408Z
UID:9963-1748995200-1749081599@arndt-gymnasium.de
SUMMARY:Freiwillige Exkursion zur JBA  3. - 6. Stunde
DESCRIPTION:
URL:https://arndt-gymnasium.de/event/freiwillige-exkursion-zur-jba-3-6-stunde/
END:VEVENT
BEGIN:VEVENT
DTSTART;VALUE=DATE:20250609
DTEND;VALUE=DATE:20250610
DTSTAMP:20260423T124259
CREATED:20240919T125441Z
LAST-MODIFIED:20240919T125446Z
UID:9965-1749427200-1749513599@arndt-gymnasium.de
SUMMARY:Pfingstmontag
DESCRIPTION:
URL:https://arndt-gymnasium.de/event/pfingstmontag-2/
END:VEVENT
BEGIN:VEVENT
DTSTART;VALUE=DATE:20250610
DTEND;VALUE=DATE:20250611
DTSTAMP:20260423T124259
CREATED:20240919T125506Z
LAST-MODIFIED:20240919T125510Z
UID:9967-1749513600-1749599999@arndt-gymnasium.de
SUMMARY:unterrichtsfreier Tag
DESCRIPTION:
URL:https://arndt-gymnasium.de/event/unterrichtsfreier-tag-4/
END:VEVENT
BEGIN:VEVENT
DTSTART;VALUE=DATE:20250611
DTEND;VALUE=DATE:20250612
DTSTAMP:20260423T124259
CREATED:20240919T125600Z
LAST-MODIFIED:20250505T170205Z
UID:9969-1749600000-1749686399@arndt-gymnasium.de
SUMMARY:Zentraler Nachschreibetermin Geschichte (LK)\, Geographie (LK) + dezentrales Abitur PW (LK)\, MU (LK)\, KU (LK)
DESCRIPTION:
URL:https://arndt-gymnasium.de/event/zentraler-nachschreibetermin-geschichte-lk-geographie-lk-dezentrales-abitur-pw-lk-mu-lk-ku-lk/
CATEGORIES:Abitur,Klausuren
END:VEVENT
BEGIN:VEVENT
DTSTART;VALUE=DATE:20250611
DTEND;VALUE=DATE:20250612
DTSTAMP:20260423T124259
CREATED:20240919T125628Z
LAST-MODIFIED:20250505T170144Z
UID:9971-1749600000-1749686399@arndt-gymnasium.de
SUMMARY:Spätestens: Übergabe der korrigierten Abiturarbeiten an den OKO
DESCRIPTION:
URL:https://arndt-gymnasium.de/event/spaetestens-uebergabe-der-korrigierten-abiturarbeiten-an-den-oko/
CATEGORIES:Abitur
END:VEVENT
BEGIN:VEVENT
DTSTART;VALUE=DATE:20250611
DTEND;VALUE=DATE:20250614
DTSTAMP:20260423T124259
CREATED:20240919T125710Z
LAST-MODIFIED:20250114T075432Z
UID:9973-1749600000-1749859199@arndt-gymnasium.de
SUMMARY:Prüfungen im 4. PF
DESCRIPTION:vereinzelt Unterricht\, Klassenarbeiten\, KSL nach Absprache\, Berufsberatung Q2
URL:https://arndt-gymnasium.de/event/pruefungen-im-4-pf-4/
END:VEVENT
BEGIN:VEVENT
DTSTART;VALUE=DATE:20250612
DTEND;VALUE=DATE:20250613
DTSTAMP:20260423T124259
CREATED:20240919T125754Z
LAST-MODIFIED:20240919T125757Z
UID:9975-1749686400-1749772799@arndt-gymnasium.de
SUMMARY:Zentraler Nachschreibetermin Physik (LK/3. PF)
DESCRIPTION:
URL:https://arndt-gymnasium.de/event/zentraler-nachschreibetermin-physik-lk-3-pf/
END:VEVENT
BEGIN:VEVENT
DTSTART;VALUE=DATE:20250613
DTEND;VALUE=DATE:20250614
DTSTAMP:20260423T124259
CREATED:20240919T125823Z
LAST-MODIFIED:20240919T125826Z
UID:9977-1749772800-1749859199@arndt-gymnasium.de
SUMMARY:Zentraler Nachschreibetermin Französisch (3.PF)
DESCRIPTION:
URL:https://arndt-gymnasium.de/event/zentraler-nachschreibetermin-franzoesisch-3-pf/
END:VEVENT
BEGIN:VEVENT
DTSTART;VALUE=DATE:20250614
DTEND;VALUE=DATE:20250615
DTSTAMP:20260423T124259
CREATED:20250427T162753Z
LAST-MODIFIED:20250427T162807Z
UID:10539-1749859200-1749945599@arndt-gymnasium.de
SUMMARY:Musik: Grades-Prüfungen
DESCRIPTION:
URL:https://arndt-gymnasium.de/event/musik-grades-pruefungen-5/
CATEGORIES:Musik / Proben / Konzerte
END:VEVENT
BEGIN:VEVENT
DTSTART;VALUE=DATE:20250615
DTEND;VALUE=DATE:20250616
DTSTAMP:20260423T124259
CREATED:20250427T163210Z
LAST-MODIFIED:20250427T163210Z
UID:10541-1749945600-1750031999@arndt-gymnasium.de
SUMMARY:Openair-Bigband-Meeting im Sommerkino Kreuzberg
DESCRIPTION:
URL:https://arndt-gymnasium.de/event/openair-bigband-meeting-im-sommerkino-kreuzberg-2/
END:VEVENT
BEGIN:VEVENT
DTSTART;VALUE=DATE:20250616
DTEND;VALUE=DATE:20250617
DTSTAMP:20260423T124259
CREATED:20240919T125854Z
LAST-MODIFIED:20240919T125858Z
UID:9979-1750032000-1750118399@arndt-gymnasium.de
SUMMARY:Zentraler Nachschreibetermin Altgrieschisch  (LK)
DESCRIPTION:
URL:https://arndt-gymnasium.de/event/zentraler-nachschreibetermin-altgrieschisch-lk/
END:VEVENT
BEGIN:VEVENT
DTSTART;VALUE=DATE:20250617
DTEND;VALUE=DATE:20250618
DTSTAMP:20260423T124259
CREATED:20240919T130005Z
LAST-MODIFIED:20240919T130009Z
UID:9983-1750118400-1750204799@arndt-gymnasium.de
SUMMARY:Zentraler Nachschreibetermin Biologie (LK/3. PF)
DESCRIPTION:
URL:https://arndt-gymnasium.de/event/zentraler-nachschreibetermin-biologie-lk-3-pf/
END:VEVENT
BEGIN:VEVENT
DTSTART;TZID=Europe/Berlin:20250617T190000
DTEND;TZID=Europe/Berlin:20250617T210000
DTSTAMP:20260423T124259
CREATED:20240919T125930Z
LAST-MODIFIED:20240930T083046Z
UID:9981-1750186800-1750194000@arndt-gymnasium.de
SUMMARY:4. GEV
DESCRIPTION:
URL:https://arndt-gymnasium.de/event/4-gev/
END:VEVENT
BEGIN:VEVENT
DTSTART;VALUE=DATE:20250618
DTEND;VALUE=DATE:20250619
DTSTAMP:20260423T124259
CREATED:20240919T130035Z
LAST-MODIFIED:20240919T130039Z
UID:9985-1750204800-1750291199@arndt-gymnasium.de
SUMMARY:Zentraler Nachschreibetermin Latein (LK)
DESCRIPTION:
URL:https://arndt-gymnasium.de/event/zentraler-nachschreibetermin-latein-lk-2/
END:VEVENT
BEGIN:VEVENT
DTSTART;VALUE=DATE:20250618
DTEND;VALUE=DATE:20250620
DTSTAMP:20260423T124259
CREATED:20240919T130159Z
LAST-MODIFIED:20240919T130203Z
UID:9988-1750204800-1750377599@arndt-gymnasium.de
SUMMARY:Freiwillig: Besuch Hochschulmesse Vacatium
DESCRIPTION:
URL:https://arndt-gymnasium.de/event/freiwillig-besuch-hochschulmesse-vacatium/
END:VEVENT
BEGIN:VEVENT
DTSTART;VALUE=DATE:20250620
DTEND;VALUE=DATE:20250621
DTSTAMP:20260423T124259
CREATED:20250427T163320Z
LAST-MODIFIED:20250427T163341Z
UID:10543-1750377600-1750463999@arndt-gymnasium.de
SUMMARY:Auftritt der Liftband beim Schulfest der Erich-Kästner-Grundschule
DESCRIPTION:
URL:https://arndt-gymnasium.de/event/auftritt-der-liftband-beim-schulfest-der-erich-kaestner-grundschule/
END:VEVENT
BEGIN:VEVENT
DTSTART;VALUE=DATE:20250620
DTEND;VALUE=DATE:20250621
DTSTAMP:20260423T124259
CREATED:20240919T130226Z
LAST-MODIFIED:20240919T130229Z
UID:9990-1750377600-1750463999@arndt-gymnasium.de
SUMMARY:Zentraler Nachschreibetermin Chemie (LK/ 3. PF)
DESCRIPTION:
URL:https://arndt-gymnasium.de/event/zentraler-nachschreibetermin-chemie-lk-3-pf/
END:VEVENT
BEGIN:VEVENT
DTSTART;VALUE=DATE:20250621
DTEND;VALUE=DATE:20250622
DTSTAMP:20260423T124259
CREATED:20250427T163427Z
LAST-MODIFIED:20250427T163437Z
UID:10545-1750464000-1750550399@arndt-gymnasium.de
SUMMARY:Nachschreibtermin (An/Al)
DESCRIPTION:
URL:https://arndt-gymnasium.de/event/nachschreibtermin-an-al/
END:VEVENT
BEGIN:VEVENT
DTSTART;VALUE=DATE:20250623
DTEND;VALUE=DATE:20250626
DTSTAMP:20260423T124259
CREATED:20250427T163601Z
LAST-MODIFIED:20250427T163601Z
UID:10547-1750636800-1750895999@arndt-gymnasium.de
SUMMARY:Generalproben Sommerkonzerte
DESCRIPTION:
URL:https://arndt-gymnasium.de/event/generalproben-sommerkonzerte/
CATEGORIES:Musik / Proben / Konzerte
END:VEVENT
BEGIN:VEVENT
DTSTART;TZID=Europe/Berlin:20250623T120000
DTEND;TZID=Europe/Berlin:20250623T120000
DTSTAMP:20260423T124259
CREATED:20240919T130302Z
LAST-MODIFIED:20240919T130306Z
UID:9992-1750680000-1750680000@arndt-gymnasium.de
SUMMARY:Vorkonferenz (Feststellung der bisherigen Ergebnisse Prüfungsausschuss)
DESCRIPTION:
URL:https://arndt-gymnasium.de/event/vorkonferenz-feststellung-der-bisherigen-ergebnisse-pruefungsausschuss/
END:VEVENT
BEGIN:VEVENT
DTSTART;TZID=Europe/Berlin:20250624T080000
DTEND;TZID=Europe/Berlin:20250624T080000
DTSTAMP:20260423T124259
CREATED:20240919T130330Z
LAST-MODIFIED:20240919T130334Z
UID:9994-1750752000-1750752000@arndt-gymnasium.de
SUMMARY:Bekanntgabe der Ergebnisse der Abiturprüfungen  (Abiturientenberatung\, Anwesenheitspflicht))
DESCRIPTION:
URL:https://arndt-gymnasium.de/event/bekanntgabe-der-ergebnisse-der-abiturpruefungen-abiturientenberatung-anwesenheitspflicht-2/
END:VEVENT
BEGIN:VEVENT
DTSTART;VALUE=DATE:20250625
DTEND;VALUE=DATE:20250628
DTSTAMP:20260423T124259
CREATED:20250427T163711Z
LAST-MODIFIED:20250427T163711Z
UID:10549-1750809600-1751068799@arndt-gymnasium.de
SUMMARY:Sommerkonzerte
DESCRIPTION:
URL:https://arndt-gymnasium.de/event/sommerkonzerte/
CATEGORIES:Musik / Proben / Konzerte
END:VEVENT
BEGIN:VEVENT
DTSTART;VALUE=DATE:20250626
DTEND;VALUE=DATE:20250627
DTSTAMP:20260423T124259
CREATED:20240919T130749Z
LAST-MODIFIED:20240919T130758Z
UID:9996-1750896000-1750982399@arndt-gymnasium.de
SUMMARY:4. SK
DESCRIPTION:
URL:https://arndt-gymnasium.de/event/4-sk-2/
END:VEVENT
BEGIN:VEVENT
DTSTART;VALUE=DATE:20250626
DTEND;VALUE=DATE:20250627
DTSTAMP:20260423T124259
CREATED:20240919T130840Z
LAST-MODIFIED:20240919T130840Z
UID:9998-1750896000-1750982399@arndt-gymnasium.de
SUMMARY:Bis 9:00 Uhr | Meldung zu weiteren Prüfungen durch Abiturienten Bekanntgabe des Prüfungsplans an Abiturienten (Zusatzprüfungen)
DESCRIPTION:
URL:https://arndt-gymnasium.de/event/bis-900-uhr-meldung-zu-weiteren-pruefungen-durch-abiturienten-bekanntgabe-des-pruefungsplans-an-abiturienten-zusatzpruefungen/
END:VEVENT
BEGIN:VEVENT
DTSTART;VALUE=DATE:20250628
DTEND;VALUE=DATE:20250630
DTSTAMP:20260423T124259
CREATED:20240919T130925Z
LAST-MODIFIED:20240919T130930Z
UID:10000-1751068800-1751241599@arndt-gymnasium.de
SUMMARY:Proben WE Q2 (WB)
DESCRIPTION:
URL:https://arndt-gymnasium.de/event/proben-we-q2-wb/
END:VEVENT
BEGIN:VEVENT
DTSTART;VALUE=DATE:20250630
DTEND;VALUE=DATE:20250701
DTSTAMP:20260423T124259
CREATED:20240919T130953Z
LAST-MODIFIED:20240919T130957Z
UID:10002-1751241600-1751327999@arndt-gymnasium.de
SUMMARY:Mündliche Prüfungen
DESCRIPTION:
URL:https://arndt-gymnasium.de/event/muendliche-pruefungen/
END:VEVENT
BEGIN:VEVENT
DTSTART;VALUE=DATE:20250630
DTEND;VALUE=DATE:20250701
DTSTAMP:20260423T124259
CREATED:20240919T131017Z
LAST-MODIFIED:20240919T131021Z
UID:10004-1751241600-1751327999@arndt-gymnasium.de
SUMMARY:Aufführung DS Q2
DESCRIPTION:
URL:https://arndt-gymnasium.de/event/auffuehrung-ds-q2/
END:VEVENT
END:VCALENDAR