BEGIN:VCALENDAR
VERSION:2.0
PRODID:-//Arndt-Gymnasium Dahlem - ECPv6.15.14//NONSGML v1.0//EN
CALSCALE:GREGORIAN
METHOD:PUBLISH
X-ORIGINAL-URL:https://arndt-gymnasium.de
X-WR-CALDESC:Veranstaltungen für Arndt-Gymnasium Dahlem
REFRESH-INTERVAL;VALUE=DURATION:PT1H
X-Robots-Tag:noindex
X-PUBLISHED-TTL:PT1H
BEGIN:VTIMEZONE
TZID:Europe/Berlin
BEGIN:DAYLIGHT
TZOFFSETFROM:+0100
TZOFFSETTO:+0200
TZNAME:CEST
DTSTART:20240331T010000
END:DAYLIGHT
BEGIN:STANDARD
TZOFFSETFROM:+0200
TZOFFSETTO:+0100
TZNAME:CET
DTSTART:20241027T010000
END:STANDARD
BEGIN:DAYLIGHT
TZOFFSETFROM:+0100
TZOFFSETTO:+0200
TZNAME:CEST
DTSTART:20250330T010000
END:DAYLIGHT
BEGIN:STANDARD
TZOFFSETFROM:+0200
TZOFFSETTO:+0100
TZNAME:CET
DTSTART:20251026T010000
END:STANDARD
BEGIN:DAYLIGHT
TZOFFSETFROM:+0100
TZOFFSETTO:+0200
TZNAME:CEST
DTSTART:20260329T010000
END:DAYLIGHT
BEGIN:STANDARD
TZOFFSETFROM:+0200
TZOFFSETTO:+0100
TZNAME:CET
DTSTART:20261025T010000
END:STANDARD
END:VTIMEZONE
BEGIN:VEVENT
DTSTART;VALUE=DATE:20250301
DTEND;VALUE=DATE:20250302
DTSTAMP:20260423T183931
CREATED:20250205T115305Z
LAST-MODIFIED:20250205T115305Z
UID:10333-1740787200-1740873599@arndt-gymnasium.de
SUMMARY:Nachschreibtermin
DESCRIPTION:
URL:https://arndt-gymnasium.de/event/nachschreibtermin/
END:VEVENT
BEGIN:VEVENT
DTSTART;VALUE=DATE:20250309
DTEND;VALUE=DATE:20250310
DTSTAMP:20260423T183931
CREATED:20240913T122225Z
LAST-MODIFIED:20240913T122230Z
UID:9867-1741478400-1741564799@arndt-gymnasium.de
SUMMARY:Proben-WE DS 8w
DESCRIPTION:
URL:https://arndt-gymnasium.de/event/proben-we-ds-8w/
END:VEVENT
BEGIN:VEVENT
DTSTART;VALUE=DATE:20250312
DTEND;VALUE=DATE:20250313
DTSTAMP:20260423T183931
CREATED:20240913T105530Z
LAST-MODIFIED:20240913T105535Z
UID:9861-1741737600-1741823999@arndt-gymnasium.de
SUMMARY:4. GK
DESCRIPTION:
URL:https://arndt-gymnasium.de/event/4-gk/
END:VEVENT
BEGIN:VEVENT
DTSTART;VALUE=DATE:20250315
DTEND;VALUE=DATE:20250316
DTSTAMP:20260423T183931
CREATED:20250205T115332Z
LAST-MODIFIED:20250205T115332Z
UID:10335-1741996800-1742083199@arndt-gymnasium.de
SUMMARY:Nachschreibtermin
DESCRIPTION:
URL:https://arndt-gymnasium.de/event/nachschreibtermin-2/
END:VEVENT
BEGIN:VEVENT
DTSTART;VALUE=DATE:20250315
DTEND;VALUE=DATE:20250317
DTSTAMP:20260423T183931
CREATED:20240913T122253Z
LAST-MODIFIED:20240913T122256Z
UID:9869-1741996800-1742169599@arndt-gymnasium.de
SUMMARY:Proben-WE DS 8w
DESCRIPTION:
URL:https://arndt-gymnasium.de/event/proben-we-ds-8w-2/
END:VEVENT
BEGIN:VEVENT
DTSTART;TZID=Europe/Berlin:20250317T180000
DTEND;TZID=Europe/Berlin:20250317T190000
DTSTAMP:20260423T183931
CREATED:20241010T123210Z
LAST-MODIFIED:20241010T123210Z
UID:10068-1742234400-1742238000@arndt-gymnasium.de
SUMMARY:Konzert der Chöre des AGD
DESCRIPTION:
URL:https://arndt-gymnasium.de/event/konzert-der-choere-des-agd/
END:VEVENT
BEGIN:VEVENT
DTSTART;TZID=Europe/Berlin:20250318T190000
DTEND;TZID=Europe/Berlin:20250318T210000
DTSTAMP:20260423T183931
CREATED:20240913T105619Z
LAST-MODIFIED:20240930T083018Z
UID:9863-1742324400-1742331600@arndt-gymnasium.de
SUMMARY:3. GEV
DESCRIPTION:
URL:https://arndt-gymnasium.de/event/3-gev/
END:VEVENT
BEGIN:VEVENT
DTSTART;VALUE=DATE:20250319
DTEND;VALUE=DATE:20250320
DTSTAMP:20260423T183931
CREATED:20240913T123724Z
LAST-MODIFIED:20240913T123728Z
UID:9871-1742342400-1742428799@arndt-gymnasium.de
SUMMARY:Aufführung DS 8w
DESCRIPTION:
URL:https://arndt-gymnasium.de/event/auffuehrung-ds-8w/
END:VEVENT
BEGIN:VEVENT
DTSTART;VALUE=DATE:20250320
DTEND;VALUE=DATE:20250321
DTSTAMP:20260423T183931
CREATED:20240913T105756Z
LAST-MODIFIED:20240913T105800Z
UID:9865-1742428800-1742515199@arndt-gymnasium.de
SUMMARY:Känguru-Wettbewerb
DESCRIPTION:
URL:https://arndt-gymnasium.de/event/kaenguru-wettbewerb-2/
END:VEVENT
BEGIN:VEVENT
DTSTART;VALUE=DATE:20250320
DTEND;VALUE=DATE:20250321
DTSTAMP:20260423T183931
CREATED:20240913T123749Z
LAST-MODIFIED:20240913T123800Z
UID:9873-1742428800-1742515199@arndt-gymnasium.de
SUMMARY:Aufführung DS 8w
DESCRIPTION:
URL:https://arndt-gymnasium.de/event/auffuehrung-ds-8w-2/
END:VEVENT
BEGIN:VEVENT
DTSTART;VALUE=DATE:20250322
DTEND;VALUE=DATE:20250323
DTSTAMP:20260423T183931
CREATED:20250205T115358Z
LAST-MODIFIED:20250205T115358Z
UID:10337-1742601600-1742687999@arndt-gymnasium.de
SUMMARY:Nachschreibtermin
DESCRIPTION:
URL:https://arndt-gymnasium.de/event/nachschreibtermin-3/
END:VEVENT
BEGIN:VEVENT
DTSTART;VALUE=DATE:20250324
DTEND;VALUE=DATE:20250325
DTSTAMP:20260423T183931
CREATED:20240913T124457Z
LAST-MODIFIED:20240913T124501Z
UID:9877-1742774400-1742860799@arndt-gymnasium.de
SUMMARY:3. Wandertag
DESCRIPTION:
URL:https://arndt-gymnasium.de/event/3-wandertag-2/
END:VEVENT
BEGIN:VEVENT
DTSTART;VALUE=DATE:20250326
DTEND;VALUE=DATE:20250327
DTSTAMP:20260423T183931
CREATED:20240913T125847Z
LAST-MODIFIED:20240913T125851Z
UID:9883-1742947200-1743033599@arndt-gymnasium.de
SUMMARY:Dienstbesprechung 5g/7a/7b/7w
DESCRIPTION:
URL:https://arndt-gymnasium.de/event/dienstbesprechung-5g-7a-7b-7w-4/
END:VEVENT
BEGIN:VEVENT
DTSTART;TZID=Europe/Berlin:20250326T080000
DTEND;TZID=Europe/Berlin:20250326T120000
DTSTAMP:20260423T183931
CREATED:20240913T124357Z
LAST-MODIFIED:20240913T124400Z
UID:9875-1742976000-1742990400@arndt-gymnasium.de
SUMMARY:Notenschluss Q4
DESCRIPTION:
URL:https://arndt-gymnasium.de/event/notenschluss-q4-2/
END:VEVENT
BEGIN:VEVENT
DTSTART;VALUE=DATE:20250327
DTEND;VALUE=DATE:20250328
DTSTAMP:20260423T183931
CREATED:20240913T130217Z
LAST-MODIFIED:20240913T130221Z
UID:9885-1743033600-1743119999@arndt-gymnasium.de
SUMMARY:3. SK
DESCRIPTION:
URL:https://arndt-gymnasium.de/event/3-sk-2/
END:VEVENT
BEGIN:VEVENT
DTSTART;TZID=Europe/Berlin:20250327T190000
DTEND;TZID=Europe/Berlin:20250327T190000
DTSTAMP:20260423T183931
CREATED:20250205T115613Z
LAST-MODIFIED:20250205T115613Z
UID:10341-1743102000-1743102000@arndt-gymnasium.de
SUMMARY:Frühlingsconcertino
DESCRIPTION:
URL:https://arndt-gymnasium.de/event/fruehlingsconcertino/
END:VEVENT
BEGIN:VEVENT
DTSTART;TZID=Europe/Berlin:20250328T190000
DTEND;TZID=Europe/Berlin:20250328T190000
DTSTAMP:20260423T183931
CREATED:20250205T115638Z
LAST-MODIFIED:20250205T115638Z
UID:10343-1743188400-1743188400@arndt-gymnasium.de
SUMMARY:Frühlingsconcertino
DESCRIPTION:
URL:https://arndt-gymnasium.de/event/fruehlingsconcertino-2/
END:VEVENT
BEGIN:VEVENT
DTSTART;VALUE=DATE:20250331
DTEND;VALUE=DATE:20250401
DTSTAMP:20260423T183931
CREATED:20240913T131759Z
LAST-MODIFIED:20240913T131803Z
UID:9887-1743379200-1743465599@arndt-gymnasium.de
SUMMARY:Jahrgangskonferenz Q4
DESCRIPTION:
URL:https://arndt-gymnasium.de/event/jahrgangskonferenz-q4/
END:VEVENT
BEGIN:VEVENT
DTSTART;VALUE=DATE:20250331
DTEND;VALUE=DATE:20250401
DTSTAMP:20260423T183931
CREATED:20240913T131931Z
LAST-MODIFIED:20240913T131935Z
UID:9889-1743379200-1743465599@arndt-gymnasium.de
SUMMARY:Dienstbesprechung mit dem Prüfungsvorsitzenden\, im Anschluss: Zulassungskonferenz (nur Prüfungsausschuss)
DESCRIPTION:
URL:https://arndt-gymnasium.de/event/dienstbesprechung-mit-dem-pruefungsvorsitzenden-im-anschluss-zulassungskonferenz-nur-pruefungsausschuss/
END:VEVENT
END:VCALENDAR