BEGIN:VCALENDAR
VERSION:2.0
PRODID:-//Arndt-Gymnasium Dahlem - ECPv6.15.14//NONSGML v1.0//EN
CALSCALE:GREGORIAN
METHOD:PUBLISH
X-WR-CALNAME:Arndt-Gymnasium Dahlem
X-ORIGINAL-URL:https://arndt-gymnasium.de
X-WR-CALDESC:Veranstaltungen für Arndt-Gymnasium Dahlem
REFRESH-INTERVAL;VALUE=DURATION:PT1H
X-Robots-Tag:noindex
X-PUBLISHED-TTL:PT1H
BEGIN:VTIMEZONE
TZID:Europe/Berlin
BEGIN:DAYLIGHT
TZOFFSETFROM:+0100
TZOFFSETTO:+0200
TZNAME:CEST
DTSTART:20230326T010000
END:DAYLIGHT
BEGIN:STANDARD
TZOFFSETFROM:+0200
TZOFFSETTO:+0100
TZNAME:CET
DTSTART:20231029T010000
END:STANDARD
BEGIN:DAYLIGHT
TZOFFSETFROM:+0100
TZOFFSETTO:+0200
TZNAME:CEST
DTSTART:20240331T010000
END:DAYLIGHT
BEGIN:STANDARD
TZOFFSETFROM:+0200
TZOFFSETTO:+0100
TZNAME:CET
DTSTART:20241027T010000
END:STANDARD
BEGIN:DAYLIGHT
TZOFFSETFROM:+0100
TZOFFSETTO:+0200
TZNAME:CEST
DTSTART:20250330T010000
END:DAYLIGHT
BEGIN:STANDARD
TZOFFSETFROM:+0200
TZOFFSETTO:+0100
TZNAME:CET
DTSTART:20251026T010000
END:STANDARD
BEGIN:DAYLIGHT
TZOFFSETFROM:+0100
TZOFFSETTO:+0200
TZNAME:CEST
DTSTART:20260329T010000
END:DAYLIGHT
BEGIN:STANDARD
TZOFFSETFROM:+0200
TZOFFSETTO:+0100
TZNAME:CET
DTSTART:20261025T010000
END:STANDARD
END:VTIMEZONE
BEGIN:VEVENT
DTSTART;VALUE=DATE:20241221
DTEND;VALUE=DATE:20250102
DTSTAMP:20260425T122252
CREATED:20240909T094613Z
LAST-MODIFIED:20240909T094617Z
UID:9812-1734739200-1735775999@arndt-gymnasium.de
SUMMARY:Weihnachtsferien
DESCRIPTION:
URL:https://arndt-gymnasium.de/event/weihnachtsferien-2/
END:VEVENT
BEGIN:VEVENT
DTSTART;VALUE=DATE:20250102
DTEND;VALUE=DATE:20250103
DTSTAMP:20260425T122252
CREATED:20240909T095150Z
LAST-MODIFIED:20240909T095155Z
UID:9814-1735776000-1735862399@arndt-gymnasium.de
SUMMARY:Beginn des 2. / 4. Kurshalbjahres
DESCRIPTION:
URL:https://arndt-gymnasium.de/event/beginn-des-2-4-kurshalbjahres-2/
END:VEVENT
BEGIN:VEVENT
DTSTART;VALUE=DATE:20250106
DTEND;VALUE=DATE:20250107
DTSTAMP:20260425T122252
CREATED:20240909T100253Z
LAST-MODIFIED:20240909T100257Z
UID:9818-1736121600-1736207999@arndt-gymnasium.de
SUMMARY:Ausgabe der Zeugnisse Q1/Q3
DESCRIPTION:
URL:https://arndt-gymnasium.de/event/ausgabe-der-zeugnisse-q1-q3/
END:VEVENT
BEGIN:VEVENT
DTSTART;VALUE=DATE:20250106
DTEND;VALUE=DATE:20250112
DTSTAMP:20260425T122252
CREATED:20240909T095234Z
LAST-MODIFIED:20240909T095238Z
UID:9816-1736121600-1736639999@arndt-gymnasium.de
SUMMARY:Probenfahrt UBB
DESCRIPTION:
URL:https://arndt-gymnasium.de/event/probenfahrt-ubb/
END:VEVENT
BEGIN:VEVENT
DTSTART;VALUE=DATE:20250107
DTEND;VALUE=DATE:20250108
DTSTAMP:20260425T122252
CREATED:20240909T100929Z
LAST-MODIFIED:20240909T100934Z
UID:9820-1736208000-1736294399@arndt-gymnasium.de
SUMMARY:Abgabe der dezentralen Abiturvorschläge bei SenBJF\, zeitgleich: Mitteilung des Prüfungsschwerpunktes an die Prüflinge
DESCRIPTION:
URL:https://arndt-gymnasium.de/event/abgabe-der-dezentralen-abiturvorschlaege-bei-senbjf-zeitgleich-mitteilung-des-pruefungsschwerpunktes-an-die-prueflinge/
END:VEVENT
BEGIN:VEVENT
DTSTART;VALUE=DATE:20250108
DTEND;VALUE=DATE:20250109
DTSTAMP:20260425T122252
CREATED:20240909T105539Z
LAST-MODIFIED:20240909T105543Z
UID:9824-1736294400-1736380799@arndt-gymnasium.de
SUMMARY:Vorbereitung für "Jugend debattiert"
DESCRIPTION:
URL:https://arndt-gymnasium.de/event/vorbereitung-fuer-jugend-debattiert/
END:VEVENT
BEGIN:VEVENT
DTSTART;VALUE=DATE:20250109
DTEND;VALUE=DATE:20250110
DTSTAMP:20260425T122252
CREATED:20240909T101157Z
LAST-MODIFIED:20240909T101736Z
UID:9822-1736380800-1736467199@arndt-gymnasium.de
SUMMARY:Mediengestützte Projektarbeit (mPa) (Klasse 10) - Unterricht nach Sonderplan
DESCRIPTION:
URL:https://arndt-gymnasium.de/event/mediengestuetzte-projektarbeit-mpa-klasse-10-unterricht-nach-sonderplan/
END:VEVENT
BEGIN:VEVENT
DTSTART;VALUE=DATE:20250110
DTEND;VALUE=DATE:20250111
DTSTAMP:20260425T122252
CREATED:20240910T075425Z
LAST-MODIFIED:20240910T075429Z
UID:9826-1736467200-1736553599@arndt-gymnasium.de
SUMMARY:Jugend debattiert
DESCRIPTION:
URL:https://arndt-gymnasium.de/event/jugend-debattiert/
END:VEVENT
BEGIN:VEVENT
DTSTART;VALUE=DATE:20250113
DTEND;VALUE=DATE:20250131
DTSTAMP:20260425T122252
CREATED:20240913T094615Z
LAST-MODIFIED:20240913T094619Z
UID:9839-1736726400-1738281599@arndt-gymnasium.de
SUMMARY:Betriebspraktikum Klasse 9
DESCRIPTION:
URL:https://arndt-gymnasium.de/event/betriebspraktikum-klasse-9-2/
END:VEVENT
BEGIN:VEVENT
DTSTART;TZID=Europe/Berlin:20250116T190000
DTEND;TZID=Europe/Berlin:20250116T203000
DTSTAMP:20260425T122252
CREATED:20240924T081319Z
LAST-MODIFIED:20240924T081319Z
UID:10037-1737054000-1737059400@arndt-gymnasium.de
SUMMARY:Elternabend 10. Klassen - Einführung Kursoberstufe
DESCRIPTION:
URL:https://arndt-gymnasium.de/event/elternabend-10-klassen-einfuehrung-kursoberstufe/
END:VEVENT
BEGIN:VEVENT
DTSTART;VALUE=DATE:20250117
DTEND;VALUE=DATE:20250118
DTSTAMP:20260425T122252
CREATED:20240913T094823Z
LAST-MODIFIED:20240913T094827Z
UID:9843-1737072000-1737158399@arndt-gymnasium.de
SUMMARY:Notenschluss Sek. 1
DESCRIPTION:
URL:https://arndt-gymnasium.de/event/notenschluss-sek-1/
END:VEVENT
BEGIN:VEVENT
DTSTART;VALUE=DATE:20250117
DTEND;VALUE=DATE:20250125
DTSTAMP:20260425T122252
CREATED:20240913T094739Z
LAST-MODIFIED:20240913T094745Z
UID:9841-1737072000-1737763199@arndt-gymnasium.de
SUMMARY:Skifahrt
DESCRIPTION:
URL:https://arndt-gymnasium.de/event/skifahrt/
END:VEVENT
BEGIN:VEVENT
DTSTART;TZID=Europe/Berlin:20250118T100000
DTEND;TZID=Europe/Berlin:20250118T140000
DTSTAMP:20260425T122252
CREATED:20240913T094926Z
LAST-MODIFIED:20250106T063724Z
UID:9845-1737194400-1737208800@arndt-gymnasium.de
SUMMARY:Tag der offenen Tür
DESCRIPTION:
URL:https://arndt-gymnasium.de/event/tag-der-offenen-tuer-2/
END:VEVENT
BEGIN:VEVENT
DTSTART;VALUE=DATE:20250120
DTEND;VALUE=DATE:20250121
DTSTAMP:20260425T122252
CREATED:20240913T103036Z
LAST-MODIFIED:20240913T103040Z
UID:9847-1737331200-1737417599@arndt-gymnasium.de
SUMMARY:Abgabe: "Endgültige Festlegung 4. PF und Wahlsemester für die mündlichen Prüfungen" beim OKO
DESCRIPTION:
URL:https://arndt-gymnasium.de/event/abgabe-endgueltige-festlegung-4-pf-und-wahlsemester-fuer-die-muendlichen-pruefungen-beim-oko/
END:VEVENT
BEGIN:VEVENT
DTSTART;VALUE=DATE:20250121
DTEND;VALUE=DATE:20250122
DTSTAMP:20260425T122252
CREATED:20240913T103122Z
LAST-MODIFIED:20240913T103122Z
UID:9849-1737417600-1737503999@arndt-gymnasium.de
SUMMARY:Zeugnislisten Sek. 1 an SL
DESCRIPTION:
URL:https://arndt-gymnasium.de/event/zeugnislisten-sek-1-an-sl/
END:VEVENT
BEGIN:VEVENT
DTSTART;TZID=Europe/Berlin:20250122T124500
DTEND;TZID=Europe/Berlin:20250122T124500
DTSTAMP:20260425T122252
CREATED:20240913T103422Z
LAST-MODIFIED:20240913T103426Z
UID:9851-1737549900-1737549900@arndt-gymnasium.de
SUMMARY:Zeugniskonferenzen Sek. 1 (außer 10w)
DESCRIPTION:
URL:https://arndt-gymnasium.de/event/zeugniskonferenzen-sek-1-ausser-10w/
END:VEVENT
BEGIN:VEVENT
DTSTART;VALUE=DATE:20250127
DTEND;VALUE=DATE:20250128
DTSTAMP:20260425T122252
CREATED:20240913T104540Z
LAST-MODIFIED:20240913T104544Z
UID:9853-1737936000-1738022399@arndt-gymnasium.de
SUMMARY:Zeugniskonferenz 10w
DESCRIPTION:
URL:https://arndt-gymnasium.de/event/zeugniskonferenz-10w/
END:VEVENT
BEGIN:VEVENT
DTSTART;VALUE=DATE:20250127
DTEND;VALUE=DATE:20250128
DTSTAMP:20260425T122252
CREATED:20240913T104719Z
LAST-MODIFIED:20240913T104723Z
UID:9855-1737936000-1738022399@arndt-gymnasium.de
SUMMARY:Zeugnisse Sek. 1 an SL
DESCRIPTION:
URL:https://arndt-gymnasium.de/event/zeugnisse-sek-1-an-sl/
END:VEVENT
BEGIN:VEVENT
DTSTART;VALUE=DATE:20250131
DTEND;VALUE=DATE:20250201
DTSTAMP:20260425T122252
CREATED:20240913T104841Z
LAST-MODIFIED:20240913T104845Z
UID:9857-1738281600-1738367999@arndt-gymnasium.de
SUMMARY:3. Stunde Zeugnisausgabe\, danach Unterrichtsschluss
DESCRIPTION:
URL:https://arndt-gymnasium.de/event/3-stunde-zeugnisausgabe-danach-unterrichtsschluss/
END:VEVENT
END:VCALENDAR