BEGIN:VCALENDAR
VERSION:2.0
PRODID:-//Arndt-Gymnasium Dahlem - ECPv6.15.14//NONSGML v1.0//EN
CALSCALE:GREGORIAN
METHOD:PUBLISH
X-WR-CALNAME:Arndt-Gymnasium Dahlem
X-ORIGINAL-URL:https://arndt-gymnasium.de
X-WR-CALDESC:Veranstaltungen für Arndt-Gymnasium Dahlem
REFRESH-INTERVAL;VALUE=DURATION:PT1H
X-Robots-Tag:noindex
X-PUBLISHED-TTL:PT1H
BEGIN:VTIMEZONE
TZID:Europe/Berlin
BEGIN:DAYLIGHT
TZOFFSETFROM:+0100
TZOFFSETTO:+0200
TZNAME:CEST
DTSTART:20230326T010000
END:DAYLIGHT
BEGIN:STANDARD
TZOFFSETFROM:+0200
TZOFFSETTO:+0100
TZNAME:CET
DTSTART:20231029T010000
END:STANDARD
BEGIN:DAYLIGHT
TZOFFSETFROM:+0100
TZOFFSETTO:+0200
TZNAME:CEST
DTSTART:20240331T010000
END:DAYLIGHT
BEGIN:STANDARD
TZOFFSETFROM:+0200
TZOFFSETTO:+0100
TZNAME:CET
DTSTART:20241027T010000
END:STANDARD
BEGIN:DAYLIGHT
TZOFFSETFROM:+0100
TZOFFSETTO:+0200
TZNAME:CEST
DTSTART:20250330T010000
END:DAYLIGHT
BEGIN:STANDARD
TZOFFSETFROM:+0200
TZOFFSETTO:+0100
TZNAME:CET
DTSTART:20251026T010000
END:STANDARD
BEGIN:DAYLIGHT
TZOFFSETFROM:+0100
TZOFFSETTO:+0200
TZNAME:CEST
DTSTART:20260329T010000
END:DAYLIGHT
BEGIN:STANDARD
TZOFFSETFROM:+0200
TZOFFSETTO:+0100
TZNAME:CET
DTSTART:20261025T010000
END:STANDARD
END:VTIMEZONE
BEGIN:VEVENT
DTSTART;VALUE=DATE:20241202
DTEND;VALUE=DATE:20241203
DTSTAMP:20260425T152007
CREATED:20240909T082319Z
LAST-MODIFIED:20240909T082323Z
UID:9764-1733097600-1733183999@arndt-gymnasium.de
SUMMARY:Q1: Sondertermin Klausuren GK-Mathematik
DESCRIPTION:
URL:https://arndt-gymnasium.de/event/q1-sondertermin-klausuren-gk-mathematik/
END:VEVENT
BEGIN:VEVENT
DTSTART;VALUE=DATE:20241202
DTEND;VALUE=DATE:20241203
DTSTAMP:20260425T152007
CREATED:20240909T082431Z
LAST-MODIFIED:20240909T082435Z
UID:9766-1733097600-1733183999@arndt-gymnasium.de
SUMMARY:Q3: Sondertermin Klausuren GK-Mathematik
DESCRIPTION:
URL:https://arndt-gymnasium.de/event/q3-sondertermin-klausuren-gk-mathematik/
END:VEVENT
BEGIN:VEVENT
DTSTART;VALUE=DATE:20241203
DTEND;VALUE=DATE:20241204
DTSTAMP:20260425T152007
CREATED:20240909T082548Z
LAST-MODIFIED:20240909T082557Z
UID:9768-1733184000-1733270399@arndt-gymnasium.de
SUMMARY:Generalproben Adventskonzerte
DESCRIPTION:
URL:https://arndt-gymnasium.de/event/generalproben-adventskonzerte/
END:VEVENT
BEGIN:VEVENT
DTSTART;VALUE=DATE:20241203
DTEND;VALUE=DATE:20241204
DTSTAMP:20260425T152007
CREATED:20240909T082645Z
LAST-MODIFIED:20240909T082649Z
UID:9770-1733184000-1733270399@arndt-gymnasium.de
SUMMARY:Dienstbesprechung 5g/7a/7b/7w
DESCRIPTION:
URL:https://arndt-gymnasium.de/event/dienstbesprechung-5g-7a-7b-7w-2/
END:VEVENT
BEGIN:VEVENT
DTSTART;TZID=Europe/Berlin:20241203T190000
DTEND;TZID=Europe/Berlin:20241203T210000
DTSTAMP:20260425T152007
CREATED:20240909T082227Z
LAST-MODIFIED:20241002T090239Z
UID:9762-1733252400-1733259600@arndt-gymnasium.de
SUMMARY:2. GEV
DESCRIPTION:
URL:https://arndt-gymnasium.de/event/2-gev/
END:VEVENT
BEGIN:VEVENT
DTSTART;VALUE=DATE:20241204
DTEND;VALUE=DATE:20241205
DTSTAMP:20260425T152007
CREATED:20240909T082728Z
LAST-MODIFIED:20240909T082732Z
UID:9772-1733270400-1733356799@arndt-gymnasium.de
SUMMARY:Generalproben Adventskonzerte
DESCRIPTION:
URL:https://arndt-gymnasium.de/event/generalproben-adventskonzerte-2/
END:VEVENT
BEGIN:VEVENT
DTSTART;TZID=Europe/Berlin:20241205T190000
DTEND;TZID=Europe/Berlin:20241205T190000
DTSTAMP:20260425T152007
CREATED:20240909T082803Z
LAST-MODIFIED:20240909T082807Z
UID:9774-1733425200-1733425200@arndt-gymnasium.de
SUMMARY:Adventskonzert
DESCRIPTION:
URL:https://arndt-gymnasium.de/event/adventskonzert/
END:VEVENT
BEGIN:VEVENT
DTSTART;VALUE=DATE:20241206
DTEND;VALUE=DATE:20241207
DTSTAMP:20260425T152007
CREATED:20240909T083039Z
LAST-MODIFIED:20240909T083044Z
UID:9776-1733443200-1733529599@arndt-gymnasium.de
SUMMARY:Auftritt der UBB im Change Hub anlässlich des 20-jährigen Bestehens des IQB
DESCRIPTION:
URL:https://arndt-gymnasium.de/event/auftritt-der-ubb-im-change-hub-anlaesslich-des-20-jaehrigen-bestehens-des-iqb/
END:VEVENT
BEGIN:VEVENT
DTSTART;TZID=Europe/Berlin:20241206T190000
DTEND;TZID=Europe/Berlin:20241206T190000
DTSTAMP:20260425T152007
CREATED:20240909T083125Z
LAST-MODIFIED:20240909T083128Z
UID:9778-1733511600-1733511600@arndt-gymnasium.de
SUMMARY:Adventskonzert
DESCRIPTION:
URL:https://arndt-gymnasium.de/event/adventskonzert-2/
END:VEVENT
BEGIN:VEVENT
DTSTART;VALUE=DATE:20241207
DTEND;VALUE=DATE:20241208
DTSTAMP:20260425T152007
CREATED:20240909T083716Z
LAST-MODIFIED:20240909T083722Z
UID:9780-1733529600-1733615999@arndt-gymnasium.de
SUMMARY:Nachklausuren LK/GK
DESCRIPTION:
URL:https://arndt-gymnasium.de/event/nachklausuren-lk-gk-8/
END:VEVENT
BEGIN:VEVENT
DTSTART;VALUE=DATE:20241209
DTEND;VALUE=DATE:20241210
DTSTAMP:20260425T152007
CREATED:20240909T083910Z
LAST-MODIFIED:20240909T083914Z
UID:9782-1733702400-1733788799@arndt-gymnasium.de
SUMMARY:Abgabe der dezentralen Abiturvorschläge bei der Schulleitung
DESCRIPTION:
URL:https://arndt-gymnasium.de/event/abgabe-der-dezentralen-abiturvorschlaege-bei-der-schulleitung/
END:VEVENT
BEGIN:VEVENT
DTSTART;VALUE=DATE:20241209
DTEND;VALUE=DATE:20241210
DTSTAMP:20260425T152007
CREATED:20240909T084016Z
LAST-MODIFIED:20240909T084032Z
UID:9784-1733702400-1733788799@arndt-gymnasium.de
SUMMARY:Klausuren GK Q1/Q3
DESCRIPTION:
URL:https://arndt-gymnasium.de/event/klausuren-gk-q1-q3-16/
END:VEVENT
BEGIN:VEVENT
DTSTART;VALUE=DATE:20241209
DTEND;VALUE=DATE:20241210
DTSTAMP:20260425T152007
CREATED:20240909T084117Z
LAST-MODIFIED:20240909T084121Z
UID:9786-1733702400-1733788799@arndt-gymnasium.de
SUMMARY:8. Klasse Wahlpflichtfach: Französisch\, Griechisch\, NT
DESCRIPTION:
URL:https://arndt-gymnasium.de/event/8-klasse-wahlpflichtfach-franzoesisch-griechisch-nt/
END:VEVENT
BEGIN:VEVENT
DTSTART;VALUE=DATE:20241210
DTEND;VALUE=DATE:20241211
DTSTAMP:20260425T152007
CREATED:20240909T084226Z
LAST-MODIFIED:20240909T084229Z
UID:9788-1733788800-1733875199@arndt-gymnasium.de
SUMMARY:Klausuren GK Q3
DESCRIPTION:
URL:https://arndt-gymnasium.de/event/klausuren-gk-q3-2/
END:VEVENT
BEGIN:VEVENT
DTSTART;VALUE=DATE:20241211
DTEND;VALUE=DATE:20241212
DTSTAMP:20260425T152007
CREATED:20240909T084601Z
LAST-MODIFIED:20240909T084605Z
UID:9790-1733875200-1733961599@arndt-gymnasium.de
SUMMARY:10. Klasse Wahlpflichtfach: Französisch (Profil)\, Französisch (Basis)\, Griechisch\, Theater\, N&T\, Mathematik
DESCRIPTION:
URL:https://arndt-gymnasium.de/event/10-klasse-wahlpflichtfach-franzoesisch-profil-franzoesisch-basis-griechisch-theater-nt-mathematik/
END:VEVENT
BEGIN:VEVENT
DTSTART;TZID=Europe/Berlin:20241211T193000
DTEND;TZID=Europe/Berlin:20241211T193000
DTSTAMP:20260425T152007
CREATED:20240918T092340Z
LAST-MODIFIED:20240918T092346Z
UID:9904-1733945400-1733945400@arndt-gymnasium.de
SUMMARY:8. Klassen Ski-Informationsabend (Für Eltern+Schüller*innen)
DESCRIPTION:
URL:https://arndt-gymnasium.de/event/8-klassen-ski-informationsabend-fuer-elternschuellerinnen/
END:VEVENT
BEGIN:VEVENT
DTSTART;VALUE=DATE:20241212
DTEND;VALUE=DATE:20241213
DTSTAMP:20260425T152007
CREATED:20240909T084626Z
LAST-MODIFIED:20240909T084630Z
UID:9792-1733961600-1734047999@arndt-gymnasium.de
SUMMARY:2. SK
DESCRIPTION:
URL:https://arndt-gymnasium.de/event/2-sk-3/
END:VEVENT
BEGIN:VEVENT
DTSTART;VALUE=DATE:20241212
DTEND;VALUE=DATE:20241213
DTSTAMP:20260425T152007
CREATED:20240909T084749Z
LAST-MODIFIED:20240909T084844Z
UID:9794-1733961600-1734047999@arndt-gymnasium.de
SUMMARY:Klausuren GK Q1
DESCRIPTION:
URL:https://arndt-gymnasium.de/event/klausuren-gk-q1-6/
END:VEVENT
BEGIN:VEVENT
DTSTART;VALUE=DATE:20241212
DTEND;VALUE=DATE:20241213
DTSTAMP:20260425T152007
CREATED:20240909T084930Z
LAST-MODIFIED:20240909T084934Z
UID:9796-1733961600-1734047999@arndt-gymnasium.de
SUMMARY:9. Klasse Wahlpflichtfach: Französisch\, Griechisch\, NT
DESCRIPTION:
URL:https://arndt-gymnasium.de/event/9-klasse-wahlpflichtfach-franzoesisch-griechisch-nt/
END:VEVENT
BEGIN:VEVENT
DTSTART;VALUE=DATE:20241214
DTEND;VALUE=DATE:20241215
DTSTAMP:20260425T152007
CREATED:20240909T092233Z
LAST-MODIFIED:20240909T092237Z
UID:9798-1734134400-1734220799@arndt-gymnasium.de
SUMMARY:Nachklausuren LK/GK
DESCRIPTION:
URL:https://arndt-gymnasium.de/event/nachklausuren-lk-gk-9/
END:VEVENT
BEGIN:VEVENT
DTSTART;VALUE=DATE:20241214
DTEND;VALUE=DATE:20241215
DTSTAMP:20260425T152007
CREATED:20240909T092527Z
LAST-MODIFIED:20240909T092531Z
UID:9800-1734134400-1734220799@arndt-gymnasium.de
SUMMARY:Musik: Grades-Prüfungen
DESCRIPTION:
URL:https://arndt-gymnasium.de/event/musik-grades-pruefungen-3/
END:VEVENT
BEGIN:VEVENT
DTSTART;VALUE=DATE:20241216
DTEND;VALUE=DATE:20241217
DTSTAMP:20260425T152007
CREATED:20240909T093626Z
LAST-MODIFIED:20240909T093707Z
UID:9802-1734307200-1734393599@arndt-gymnasium.de
SUMMARY:Beratung FBL/FL/FKL
DESCRIPTION:
URL:https://arndt-gymnasium.de/event/beratung-fbl-fl-fkl-2/
END:VEVENT
BEGIN:VEVENT
DTSTART;VALUE=DATE:20241218
DTEND;VALUE=DATE:20241219
DTSTAMP:20260425T152007
CREATED:20240909T093808Z
LAST-MODIFIED:20240909T093812Z
UID:9804-1734480000-1734566399@arndt-gymnasium.de
SUMMARY:Notenschluss Q1/Q3
DESCRIPTION:
URL:https://arndt-gymnasium.de/event/notenschluss-q1-q3/
END:VEVENT
BEGIN:VEVENT
DTSTART;VALUE=DATE:20241219
DTEND;VALUE=DATE:20241220
DTSTAMP:20260425T152007
CREATED:20240909T094258Z
LAST-MODIFIED:20240909T094302Z
UID:9808-1734566400-1734652799@arndt-gymnasium.de
SUMMARY:2. Aushändigung der endgültigen Themen der 5. PK an SuS
DESCRIPTION:
URL:https://arndt-gymnasium.de/event/2-aushaendigung-der-endgueltigen-themen-der-5-pk-an-sus/
END:VEVENT
BEGIN:VEVENT
DTSTART;TZID=Europe/Berlin:20241219T144500
DTEND;TZID=Europe/Berlin:20241219T161500
DTSTAMP:20260425T152007
CREATED:20240909T094134Z
LAST-MODIFIED:20240909T094138Z
UID:9806-1734619500-1734624900@arndt-gymnasium.de
SUMMARY:Jahrgangskonferenzen Q1/Q3
DESCRIPTION:
URL:https://arndt-gymnasium.de/event/jahrgangskonferenzen-q1-q3/
END:VEVENT
BEGIN:VEVENT
DTSTART;VALUE=DATE:20241220
DTEND;VALUE=DATE:20241221
DTSTAMP:20260425T152007
CREATED:20240909T094428Z
LAST-MODIFIED:20240909T094434Z
UID:9810-1734652800-1734739199@arndt-gymnasium.de
SUMMARY:Ende des Semesters Q1/Q3
DESCRIPTION:
URL:https://arndt-gymnasium.de/event/ende-des-semesters-q1-q3/
END:VEVENT
BEGIN:VEVENT
DTSTART;VALUE=DATE:20241221
DTEND;VALUE=DATE:20250102
DTSTAMP:20260425T152007
CREATED:20240909T094613Z
LAST-MODIFIED:20240909T094617Z
UID:9812-1734739200-1735775999@arndt-gymnasium.de
SUMMARY:Weihnachtsferien
DESCRIPTION:
URL:https://arndt-gymnasium.de/event/weihnachtsferien-2/
END:VEVENT
END:VCALENDAR