BEGIN:VCALENDAR
VERSION:2.0
PRODID:-//Arndt-Gymnasium Dahlem - ECPv6.15.14//NONSGML v1.0//EN
CALSCALE:GREGORIAN
METHOD:PUBLISH
X-ORIGINAL-URL:https://arndt-gymnasium.de
X-WR-CALDESC:Veranstaltungen für Arndt-Gymnasium Dahlem
REFRESH-INTERVAL;VALUE=DURATION:PT1H
X-Robots-Tag:noindex
X-PUBLISHED-TTL:PT1H
BEGIN:VTIMEZONE
TZID:Europe/Berlin
BEGIN:DAYLIGHT
TZOFFSETFROM:+0100
TZOFFSETTO:+0200
TZNAME:CEST
DTSTART:20250330T010000
END:DAYLIGHT
BEGIN:STANDARD
TZOFFSETFROM:+0200
TZOFFSETTO:+0100
TZNAME:CET
DTSTART:20251026T010000
END:STANDARD
BEGIN:DAYLIGHT
TZOFFSETFROM:+0100
TZOFFSETTO:+0200
TZNAME:CEST
DTSTART:20260329T010000
END:DAYLIGHT
BEGIN:STANDARD
TZOFFSETFROM:+0200
TZOFFSETTO:+0100
TZNAME:CET
DTSTART:20261025T010000
END:STANDARD
BEGIN:DAYLIGHT
TZOFFSETFROM:+0100
TZOFFSETTO:+0200
TZNAME:CEST
DTSTART:20270328T010000
END:DAYLIGHT
BEGIN:STANDARD
TZOFFSETFROM:+0200
TZOFFSETTO:+0100
TZNAME:CET
DTSTART:20271031T010000
END:STANDARD
END:VTIMEZONE
BEGIN:VEVENT
DTSTART;VALUE=DATE:20260522
DTEND;VALUE=DATE:20260523
DTSTAMP:20260425T122353
CREATED:20260218T150045Z
LAST-MODIFIED:20260218T150045Z
UID:11830-1779408000-1779494399@arndt-gymnasium.de
SUMMARY:10. Klasse (Wahlpfichtfach):
DESCRIPTION:
URL:https://arndt-gymnasium.de/event/10-klasse-wahlpfichtfach/
CATEGORIES:Klausuren
END:VEVENT
BEGIN:VEVENT
DTSTART;VALUE=DATE:20260522
DTEND;VALUE=DATE:20260523
DTSTAMP:20260425T122353
CREATED:20260218T150045Z
LAST-MODIFIED:20260218T150636Z
UID:11829-1779408000-1779494399@arndt-gymnasium.de
SUMMARY:Klausuren LK-Schiene A
DESCRIPTION:
URL:https://arndt-gymnasium.de/event/klausuren-lk-schiene-b-4/
CATEGORIES:Klausuren
END:VEVENT
BEGIN:VEVENT
DTSTART;VALUE=DATE:20260525
DTEND;VALUE=DATE:20260526
DTSTAMP:20260425T122353
CREATED:20250924T053847Z
LAST-MODIFIED:20250924T053847Z
UID:11082-1779667200-1779753599@arndt-gymnasium.de
SUMMARY:Pfingstmontag
DESCRIPTION:
URL:https://arndt-gymnasium.de/event/pfingstmontag-3/
END:VEVENT
BEGIN:VEVENT
DTSTART;VALUE=DATE:20260526
DTEND;VALUE=DATE:20260527
DTSTAMP:20260425T122353
CREATED:20250924T053918Z
LAST-MODIFIED:20250924T053918Z
UID:11084-1779753600-1779839999@arndt-gymnasium.de
SUMMARY:unterrichtsfrei
DESCRIPTION:
URL:https://arndt-gymnasium.de/event/unterrichtsfrei/
END:VEVENT
BEGIN:VEVENT
DTSTART;VALUE=DATE:20260527
DTEND;VALUE=DATE:20260528
DTSTAMP:20260425T122353
CREATED:20260218T150305Z
LAST-MODIFIED:20260218T150305Z
UID:11836-1779840000-1779926399@arndt-gymnasium.de
SUMMARY:Verpflichtender Vorbereitungsunterricht zur Exkursion
DESCRIPTION:
URL:https://arndt-gymnasium.de/event/verpflichtender-vorbereitungsunterricht-zur-exkursion/
END:VEVENT
BEGIN:VEVENT
DTSTART;VALUE=DATE:20260527
DTEND;VALUE=DATE:20260528
DTSTAMP:20260425T122353
CREATED:20260218T150305Z
LAST-MODIFIED:20260218T150305Z
UID:11838-1779840000-1779926399@arndt-gymnasium.de
SUMMARY:Spätestens Mitteilung des Prüfungsplans (4.PF) an die Abiturient*innen
DESCRIPTION:
URL:https://arndt-gymnasium.de/event/spaetestens-mitteilung-des-pruefungsplans-4-pf-an-die-abiturientinnen/
CATEGORIES:Abitur
END:VEVENT
BEGIN:VEVENT
DTSTART;VALUE=DATE:20260527
DTEND;VALUE=DATE:20260530
DTSTAMP:20260425T122353
CREATED:20260218T150105Z
LAST-MODIFIED:20260218T150105Z
UID:11831-1779840000-1780099199@arndt-gymnasium.de
SUMMARY:Prüfungen in der 5. Prüfungskomponente
DESCRIPTION:
URL:https://arndt-gymnasium.de/event/pruefungen-in-der-5-pruefungskomponente/
CATEGORIES:Abitur
END:VEVENT
BEGIN:VEVENT
DTSTART;VALUE=DATE:20260527
DTEND;VALUE=DATE:20260530
DTSTAMP:20260425T122353
CREATED:20260218T150105Z
LAST-MODIFIED:20260218T150105Z
UID:11832-1779840000-1780099199@arndt-gymnasium.de
SUMMARY:Nachschreibtermin für SEK I und SEK II\, eventuell Unterricht nach Sonderplan
DESCRIPTION:
URL:https://arndt-gymnasium.de/event/nachschreibtermin-fuer-sek-i-und-sek-ii-eventuell-unterricht-nach-sonderplan/
CATEGORIES:Klausuren
END:VEVENT
BEGIN:VEVENT
DTSTART;VALUE=DATE:20260527
DTEND;VALUE=DATE:20260530
DTSTAMP:20260425T122353
CREATED:20260218T150106Z
LAST-MODIFIED:20260218T150106Z
UID:11835-1779840000-1780099199@arndt-gymnasium.de
SUMMARY:Mündliche Klassenarbeit (Klasse 10)
DESCRIPTION:
URL:https://arndt-gymnasium.de/event/muendliche-klassenarbeit-klasse-10/
END:VEVENT
BEGIN:VEVENT
DTSTART;VALUE=DATE:20260528
DTEND;VALUE=DATE:20260529
DTSTAMP:20260425T122353
CREATED:20260218T150106Z
LAST-MODIFIED:20260218T150106Z
UID:11833-1779926400-1780012799@arndt-gymnasium.de
SUMMARY:Zentraler Nachschreibetermin Englisch (LK/3. PF)
DESCRIPTION:
URL:https://arndt-gymnasium.de/event/zentraler-nachschreibetermin-englisch-lk-3-pf-3/
CATEGORIES:Abitur
END:VEVENT
BEGIN:VEVENT
DTSTART;VALUE=DATE:20260528
DTEND;VALUE=DATE:20260529
DTSTAMP:20260425T122353
CREATED:20260218T150305Z
LAST-MODIFIED:20260218T150305Z
UID:11837-1779926400-1780012799@arndt-gymnasium.de
SUMMARY:Exkursion zur Synagoge
DESCRIPTION:
URL:https://arndt-gymnasium.de/event/exkursion-zur-synagoge/
END:VEVENT
BEGIN:VEVENT
DTSTART;VALUE=DATE:20260529
DTEND;VALUE=DATE:20260530
DTSTAMP:20260425T122353
CREATED:20260218T150106Z
LAST-MODIFIED:20260218T150106Z
UID:11834-1780012800-1780099199@arndt-gymnasium.de
SUMMARY:Zentraler Nachschreibetermin Chemie (LK/3. PF)
DESCRIPTION:
URL:https://arndt-gymnasium.de/event/zentraler-nachschreibetermin-chemie-lk-3-pf-2/
CATEGORIES:Abitur
END:VEVENT
BEGIN:VEVENT
DTSTART;VALUE=DATE:20260530
DTEND;VALUE=DATE:20260531
DTSTAMP:20260425T122353
CREATED:20260218T150306Z
LAST-MODIFIED:20260218T150306Z
UID:11839-1780099200-1780185599@arndt-gymnasium.de
SUMMARY:Musik: Grades-Prüfungen
DESCRIPTION:
URL:https://arndt-gymnasium.de/event/musik-grades-pruefungen-12/
CATEGORIES:Grades,Musik
END:VEVENT
BEGIN:VEVENT
DTSTART;VALUE=DATE:20260601
DTEND;VALUE=DATE:20260602
DTSTAMP:20260425T122353
CREATED:20260219T143004Z
LAST-MODIFIED:20260219T143004Z
UID:11882-1780272000-1780358399@arndt-gymnasium.de
SUMMARY:Zentraler Nachschreibetermin Französisch (3. PF)
DESCRIPTION:
URL:https://arndt-gymnasium.de/event/zentraler-nachschreibetermin-franzoesisch-3-pf-2/
CATEGORIES:Abitur
END:VEVENT
BEGIN:VEVENT
DTSTART;VALUE=DATE:20260601
DTEND;VALUE=DATE:20260606
DTSTAMP:20260425T122353
CREATED:20260219T143005Z
LAST-MODIFIED:20260219T143005Z
UID:11883-1780272000-1780703999@arndt-gymnasium.de
SUMMARY:Fahrt nach Wittenberg (ev./kath. Rel. Smi\, Be\, Sds)
DESCRIPTION:
URL:https://arndt-gymnasium.de/event/fahrt-nach-wittenberg-ev-kath-rel-smi-be-sds/
END:VEVENT
BEGIN:VEVENT
DTSTART;TZID=Europe/Berlin:20260602T190000
DTEND;TZID=Europe/Berlin:20260602T190000
DTSTAMP:20260425T122353
CREATED:20260219T143006Z
LAST-MODIFIED:20260219T143006Z
UID:11884-1780426800-1780426800@arndt-gymnasium.de
SUMMARY:4. GEV
DESCRIPTION:
URL:https://arndt-gymnasium.de/event/4-gev-2/
CATEGORIES:Konferenzen
END:VEVENT
BEGIN:VEVENT
DTSTART;VALUE=DATE:20260603
DTEND;VALUE=DATE:20260604
DTSTAMP:20260425T122353
CREATED:20260219T143010Z
LAST-MODIFIED:20260219T143010Z
UID:11886-1780444800-1780531199@arndt-gymnasium.de
SUMMARY:Zentraler Nachschreibetermin Physik (LK/3.PF)
DESCRIPTION:
URL:https://arndt-gymnasium.de/event/zentraler-nachschreibetermin-physik-lk-3-pf-2/
CATEGORIES:Abitur
END:VEVENT
BEGIN:VEVENT
DTSTART;VALUE=DATE:20260603
DTEND;VALUE=DATE:20260606
DTSTAMP:20260425T122353
CREATED:20260219T143007Z
LAST-MODIFIED:20260219T143007Z
UID:11885-1780444800-1780703999@arndt-gymnasium.de
SUMMARY:Prüfungen im 4. Abiturfach
DESCRIPTION:
URL:https://arndt-gymnasium.de/event/pruefungen-im-4-abiturfach/
CATEGORIES:Abitur
END:VEVENT
BEGIN:VEVENT
DTSTART;VALUE=DATE:20260603
DTEND;VALUE=DATE:20260606
DTSTAMP:20260425T122353
CREATED:20260219T143010Z
LAST-MODIFIED:20260219T143010Z
UID:11887-1780444800-1780703999@arndt-gymnasium.de
SUMMARY:Nachschreibtermin für SEK I und SEK II\, eventuell Unterricht nach Sonderplan
DESCRIPTION:
URL:https://arndt-gymnasium.de/event/nachschreibtermin-fuer-sek-i-und-sek-ii-eventuell-unterricht-nach-sonderplan-2/
CATEGORIES:Klausuren
END:VEVENT
BEGIN:VEVENT
DTSTART;VALUE=DATE:20260603
DTEND;VALUE=DATE:20260606
DTSTAMP:20260425T122353
CREATED:20260219T143011Z
LAST-MODIFIED:20260219T143011Z
UID:11888-1780444800-1780703999@arndt-gymnasium.de
SUMMARY:Mündliche Klassenarbeit (Klasse 9)
DESCRIPTION:
URL:https://arndt-gymnasium.de/event/muendliche-klassenarbeit-klasse-9/
END:VEVENT
BEGIN:VEVENT
DTSTART;VALUE=DATE:20260605
DTEND;VALUE=DATE:20260606
DTSTAMP:20260425T122353
CREATED:20260219T143011Z
LAST-MODIFIED:20260219T143011Z
UID:11889-1780617600-1780703999@arndt-gymnasium.de
SUMMARY:Zentraler Nachschreibetermin Mathematik (LK/3.PF)
DESCRIPTION:
URL:https://arndt-gymnasium.de/event/zentraler-nachschreibetermin-mathematik-lk-3-pf-2/
CATEGORIES:Abitur
END:VEVENT
BEGIN:VEVENT
DTSTART;VALUE=DATE:20260608
DTEND;VALUE=DATE:20260609
DTSTAMP:20260425T122353
CREATED:20260219T143012Z
LAST-MODIFIED:20260219T143012Z
UID:11890-1780876800-1780963199@arndt-gymnasium.de
SUMMARY:Zentraler Nachschreibetermin Geschichte + Geographie (LK)
DESCRIPTION:
URL:https://arndt-gymnasium.de/event/zentraler-nachschreibetermin-geschichte-geographie-lk/
CATEGORIES:Abitur
END:VEVENT
BEGIN:VEVENT
DTSTART;VALUE=DATE:20260608
DTEND;VALUE=DATE:20260609
DTSTAMP:20260425T122353
CREATED:20260219T143032Z
LAST-MODIFIED:20260219T143032Z
UID:11891-1780876800-1780963199@arndt-gymnasium.de
SUMMARY:Dezentrales Abitur PW\, MU\, KU (LK)
DESCRIPTION:
URL:https://arndt-gymnasium.de/event/dezentrales-abitur-pw-mu-ku-lk/
CATEGORIES:Abitur
END:VEVENT
BEGIN:VEVENT
DTSTART;TZID=Europe/Berlin:20260608T190000
DTEND;TZID=Europe/Berlin:20260608T190000
DTSTAMP:20260425T122353
CREATED:20260219T143033Z
LAST-MODIFIED:20260219T143033Z
UID:11892-1780945200-1780945200@arndt-gymnasium.de
SUMMARY:Vormittags: Generalprobe / Aufführung 7w (Mt)
DESCRIPTION:
URL:https://arndt-gymnasium.de/event/vormittags-generalprobe-auffuehrung-7w-mt/
END:VEVENT
BEGIN:VEVENT
DTSTART;TZID=Europe/Berlin:20260611T100000
DTEND;TZID=Europe/Berlin:20260611T100000
DTSTAMP:20260425T122353
CREATED:20260219T143033Z
LAST-MODIFIED:20260219T143033Z
UID:11893-1781172000-1781172000@arndt-gymnasium.de
SUMMARY:Vorkonferenz (Feststellung der bisherigen Ergebnisse Prüfungsausschuss)
DESCRIPTION:
URL:https://arndt-gymnasium.de/event/vorkonferenz-feststellung-der-bisherigen-ergebnisse-pruefungsausschuss-2/
CATEGORIES:Abitur,Konferenzen
END:VEVENT
BEGIN:VEVENT
DTSTART;TZID=Europe/Berlin:20260611T170000
DTEND;TZID=Europe/Berlin:20260611T170000
DTSTAMP:20260425T122353
CREATED:20260219T143033Z
LAST-MODIFIED:20260219T143033Z
UID:11894-1781197200-1781197200@arndt-gymnasium.de
SUMMARY:4. SK
DESCRIPTION:
URL:https://arndt-gymnasium.de/event/4-sk-3/
CATEGORIES:Konferenzen
END:VEVENT
BEGIN:VEVENT
DTSTART;TZID=Europe/Berlin:20260612T090000
DTEND;TZID=Europe/Berlin:20260612T090000
DTSTAMP:20260425T122353
CREATED:20260219T143033Z
LAST-MODIFIED:20260219T143033Z
UID:11895-1781254800-1781254800@arndt-gymnasium.de
SUMMARY:Bekanntgabe der Ergebnisse der Abiturprüfungen (Abiturient*inberatung\, Anwesenheitspflicht)
DESCRIPTION:
URL:https://arndt-gymnasium.de/event/bekanntgabe-der-ergebnisse-der-abiturpruefungen-abiturientinberatung-anwesenheitspflicht/
CATEGORIES:Abitur,Konferenzen
END:VEVENT
BEGIN:VEVENT
DTSTART;VALUE=DATE:20260613
DTEND;VALUE=DATE:20260614
DTSTAMP:20260425T122353
CREATED:20260219T143127Z
LAST-MODIFIED:20260219T143127Z
UID:11896-1781308800-1781395199@arndt-gymnasium.de
SUMMARY:Nachklausuren LK/GK (Hb/Ho)
DESCRIPTION:
URL:https://arndt-gymnasium.de/event/nachklausuren-lk-gk-hb-ho/
CATEGORIES:Klausuren
END:VEVENT
BEGIN:VEVENT
DTSTART;VALUE=DATE:20260613
DTEND;VALUE=DATE:20260614
DTSTAMP:20260425T122353
CREATED:20260219T143127Z
LAST-MODIFIED:20260219T143127Z
UID:11897-1781308800-1781395199@arndt-gymnasium.de
SUMMARY:Musik: Grades-Prüfungen
DESCRIPTION:
URL:https://arndt-gymnasium.de/event/musik-grades-pruefungen-13/
CATEGORIES:Grades,Musik
END:VEVENT
BEGIN:VEVENT
DTSTART;VALUE=DATE:20260613
DTEND;VALUE=DATE:20260615
DTSTAMP:20260425T122353
CREATED:20260219T143127Z
LAST-MODIFIED:20260219T143127Z
UID:11898-1781308800-1781481599@arndt-gymnasium.de
SUMMARY:Generalprobe ds-2 (Wb)
DESCRIPTION:
URL:https://arndt-gymnasium.de/event/generalprobe-ds-2-wb/
END:VEVENT
END:VCALENDAR