BEGIN:VCALENDAR
VERSION:2.0
PRODID:-//Arndt-Gymnasium Dahlem - ECPv6.15.14//NONSGML v1.0//EN
CALSCALE:GREGORIAN
METHOD:PUBLISH
X-ORIGINAL-URL:https://arndt-gymnasium.de
X-WR-CALDESC:Veranstaltungen für Arndt-Gymnasium Dahlem
REFRESH-INTERVAL;VALUE=DURATION:PT1H
X-Robots-Tag:noindex
X-PUBLISHED-TTL:PT1H
BEGIN:VTIMEZONE
TZID:Europe/Berlin
BEGIN:DAYLIGHT
TZOFFSETFROM:+0100
TZOFFSETTO:+0200
TZNAME:CEST
DTSTART:20250330T010000
END:DAYLIGHT
BEGIN:STANDARD
TZOFFSETFROM:+0200
TZOFFSETTO:+0100
TZNAME:CET
DTSTART:20251026T010000
END:STANDARD
BEGIN:DAYLIGHT
TZOFFSETFROM:+0100
TZOFFSETTO:+0200
TZNAME:CEST
DTSTART:20260329T010000
END:DAYLIGHT
BEGIN:STANDARD
TZOFFSETFROM:+0200
TZOFFSETTO:+0100
TZNAME:CET
DTSTART:20261025T010000
END:STANDARD
BEGIN:DAYLIGHT
TZOFFSETFROM:+0100
TZOFFSETTO:+0200
TZNAME:CEST
DTSTART:20270328T010000
END:DAYLIGHT
BEGIN:STANDARD
TZOFFSETFROM:+0200
TZOFFSETTO:+0100
TZNAME:CET
DTSTART:20271031T010000
END:STANDARD
END:VTIMEZONE
BEGIN:VEVENT
DTSTART;VALUE=DATE:20260421
DTEND;VALUE=DATE:20260422
DTSTAMP:20260421T120222
CREATED:20260217T171509Z
LAST-MODIFIED:20260217T171509Z
UID:11758-1776729600-1776815999@arndt-gymnasium.de
SUMMARY:10. Klasse Ethik-Modul (Ko\, Lk\, Sch\, Bd)
DESCRIPTION:
URL:https://arndt-gymnasium.de/event/10-klasse-ethik-modul-ko-lk-sch-bd/
CATEGORIES:Klausuren
END:VEVENT
BEGIN:VEVENT
DTSTART;VALUE=DATE:20260422
DTEND;VALUE=DATE:20260423
DTSTAMP:20260421T120222
CREATED:20260217T171638Z
LAST-MODIFIED:20260217T173938Z
UID:11762-1776816000-1776902399@arndt-gymnasium.de
SUMMARY:Zentralabitur Biologie (LK/3.PF)
DESCRIPTION:
URL:https://arndt-gymnasium.de/event/zentralabitur-biologie-lk-3-pf-2/
CATEGORIES:Abitur
END:VEVENT
BEGIN:VEVENT
DTSTART;VALUE=DATE:20260422
DTEND;VALUE=DATE:20260423
DTSTAMP:20260421T120222
CREATED:20260217T171547Z
LAST-MODIFIED:20260217T171547Z
UID:11760-1776816000-1776902399@arndt-gymnasium.de
SUMMARY:Klausuren GK Q2
DESCRIPTION:
URL:https://arndt-gymnasium.de/event/klausuren-gk-q2-7/
CATEGORIES:Klausuren
END:VEVENT
BEGIN:VEVENT
DTSTART;VALUE=DATE:20260423
DTEND;VALUE=DATE:20260424
DTSTAMP:20260421T120222
CREATED:20260217T173458Z
LAST-MODIFIED:20260218T130629Z
UID:11766-1776902400-1776988799@arndt-gymnasium.de
SUMMARY:Klausuren GK Q2
DESCRIPTION:
URL:https://arndt-gymnasium.de/event/klausuren-gk-q2-8/
CATEGORIES:Klausuren
END:VEVENT
BEGIN:VEVENT
DTSTART;VALUE=DATE:20260424
DTEND;VALUE=DATE:20260425
DTSTAMP:20260421T120222
CREATED:20260217T173458Z
LAST-MODIFIED:20260217T173628Z
UID:11767-1776988800-1777075199@arndt-gymnasium.de
SUMMARY:Zentralabitur Chemie (LK/3.PF)
DESCRIPTION:
URL:https://arndt-gymnasium.de/event/zentralabitur-chemie-lk-3-pf-2/
CATEGORIES:Abitur
END:VEVENT
BEGIN:VEVENT
DTSTART;VALUE=DATE:20260425
DTEND;VALUE=DATE:20260426
DTSTAMP:20260421T120222
CREATED:20260218T131350Z
LAST-MODIFIED:20260218T131350Z
UID:11776-1777075200-1777161599@arndt-gymnasium.de
SUMMARY:Nachklausuren LK/GK (Gb/Hs)
DESCRIPTION:
URL:https://arndt-gymnasium.de/event/nachklausuren-lk-gk-gb-hs/
CATEGORIES:Klausuren
END:VEVENT
BEGIN:VEVENT
DTSTART;VALUE=DATE:20260425
DTEND;VALUE=DATE:20260426
DTSTAMP:20260421T120222
CREATED:20260218T131350Z
LAST-MODIFIED:20260218T132454Z
UID:11777-1777075200-1777161599@arndt-gymnasium.de
SUMMARY:Musik: Grades-Prüfungen
DESCRIPTION:
URL:https://arndt-gymnasium.de/event/musik-grades-pruefungen-10/
CATEGORIES:Grades,Musik
END:VEVENT
BEGIN:VEVENT
DTSTART;VALUE=DATE:20260427
DTEND;VALUE=DATE:20260428
DTSTAMP:20260421T120222
CREATED:20260218T131351Z
LAST-MODIFIED:20260218T131351Z
UID:11778-1777248000-1777334399@arndt-gymnasium.de
SUMMARY:BO 8a/8b
DESCRIPTION:
URL:https://arndt-gymnasium.de/event/bo-8a-8b/
CATEGORIES:Berufsorientierung
END:VEVENT
BEGIN:VEVENT
DTSTART;VALUE=DATE:20260427
DTEND;VALUE=DATE:20260428
DTSTAMP:20260421T120222
CREATED:20260218T131359Z
LAST-MODIFIED:20260218T131359Z
UID:11782-1777248000-1777334399@arndt-gymnasium.de
SUMMARY:Klausur DELF (Be)\, ds-2 (Wb)
DESCRIPTION:
URL:https://arndt-gymnasium.de/event/klausur-delf-be-ds-2-wb/
CATEGORIES:Klausuren
END:VEVENT
BEGIN:VEVENT
DTSTART;VALUE=DATE:20260428
DTEND;VALUE=DATE:20260429
DTSTAMP:20260421T120222
CREATED:20260218T131357Z
LAST-MODIFIED:20260218T131357Z
UID:11779-1777334400-1777420799@arndt-gymnasium.de
SUMMARY:BO 8a/8b
DESCRIPTION:
URL:https://arndt-gymnasium.de/event/bo-8a-8b-2/
CATEGORIES:Berufsorientierung
END:VEVENT
BEGIN:VEVENT
DTSTART;VALUE=DATE:20260428
DTEND;VALUE=DATE:20260429
DTSTAMP:20260421T120222
CREATED:20260218T131400Z
LAST-MODIFIED:20260218T131400Z
UID:11783-1777334400-1777420799@arndt-gymnasium.de
SUMMARY:Zentralabitur Deutsch (LK/3. PF)
DESCRIPTION:
URL:https://arndt-gymnasium.de/event/zentralabitur-deutsch-lk-3-pf-2/
CATEGORIES:Abitur
END:VEVENT
BEGIN:VEVENT
DTSTART;VALUE=DATE:20260428
DTEND;VALUE=DATE:20260429
DTSTAMP:20260421T120222
CREATED:20260218T131424Z
LAST-MODIFIED:20260218T131425Z
UID:11787-1777334400-1777420799@arndt-gymnasium.de
SUMMARY:Q2: Sondertermin pw-2.2 (Em/Ko)
DESCRIPTION:
URL:https://arndt-gymnasium.de/event/q2-sondertermin-pw-2-2-em-ko/
END:VEVENT
BEGIN:VEVENT
DTSTART;VALUE=DATE:20260429
DTEND;VALUE=DATE:20260430
DTSTAMP:20260421T120222
CREATED:20260218T131357Z
LAST-MODIFIED:20260218T131357Z
UID:11780-1777420800-1777507199@arndt-gymnasium.de
SUMMARY:BO 8w/8g
DESCRIPTION:
URL:https://arndt-gymnasium.de/event/bo-8w-8g/
CATEGORIES:Berufsorientierung
END:VEVENT
BEGIN:VEVENT
DTSTART;VALUE=DATE:20260429
DTEND;VALUE=DATE:20260430
DTSTAMP:20260421T120222
CREATED:20260218T131400Z
LAST-MODIFIED:20260218T131400Z
UID:11784-1777420800-1777507199@arndt-gymnasium.de
SUMMARY:Klausur ds-2 (Kao)
DESCRIPTION:
URL:https://arndt-gymnasium.de/event/klausur-ds-2-kao/
CATEGORIES:Klausuren
END:VEVENT
BEGIN:VEVENT
DTSTART;VALUE=DATE:20260430
DTEND;VALUE=DATE:20260501
DTSTAMP:20260421T120222
CREATED:20260218T131359Z
LAST-MODIFIED:20260218T131359Z
UID:11781-1777507200-1777593599@arndt-gymnasium.de
SUMMARY:BO 8w/8g
DESCRIPTION:
URL:https://arndt-gymnasium.de/event/bo-8w-8g-2/
CATEGORIES:Berufsorientierung
END:VEVENT
BEGIN:VEVENT
DTSTART;VALUE=DATE:20260430
DTEND;VALUE=DATE:20260501
DTSTAMP:20260421T120222
CREATED:20260218T131400Z
LAST-MODIFIED:20260218T131400Z
UID:11785-1777507200-1777593599@arndt-gymnasium.de
SUMMARY:Zentralabitur Englisch (LK/3. PF)
DESCRIPTION:
URL:https://arndt-gymnasium.de/event/zentralabitur-englisch-lk-3-pf-3/
CATEGORIES:Abitur
END:VEVENT
BEGIN:VEVENT
DTSTART;VALUE=DATE:20260430
DTEND;VALUE=DATE:20260501
DTSTAMP:20260421T120222
CREATED:20260218T131424Z
LAST-MODIFIED:20260218T131425Z
UID:11786-1777507200-1777593599@arndt-gymnasium.de
SUMMARY:Klausur ds-2 (Bt)
DESCRIPTION:
URL:https://arndt-gymnasium.de/event/klausur-ds-2-bt/
CATEGORIES:Klausuren
END:VEVENT
BEGIN:VEVENT
DTSTART;VALUE=DATE:20260501
DTEND;VALUE=DATE:20260502
DTSTAMP:20260421T120222
CREATED:20250924T053652Z
LAST-MODIFIED:20250924T053652Z
UID:11076-1777593600-1777679999@arndt-gymnasium.de
SUMMARY:Tag der Arbeit
DESCRIPTION:
URL:https://arndt-gymnasium.de/event/tag-der-arbeit/
END:VEVENT
BEGIN:VEVENT
DTSTART;VALUE=DATE:20260504
DTEND;VALUE=DATE:20260505
DTSTAMP:20260421T120222
CREATED:20260315T114252Z
LAST-MODIFIED:20260315T114252Z
UID:12054-1777852800-1777939199@arndt-gymnasium.de
SUMMARY:Q2: Sondertermin e1-2 (Le)
DESCRIPTION:
URL:https://arndt-gymnasium.de/event/q2-sondertermin-e1-2-le/
END:VEVENT
BEGIN:VEVENT
DTSTART;VALUE=DATE:20260506
DTEND;VALUE=DATE:20260507
DTSTAMP:20260421T120222
CREATED:20260218T145757Z
LAST-MODIFIED:20260218T145757Z
UID:11806-1778025600-1778111999@arndt-gymnasium.de
SUMMARY:Zentralabitur Mathematik (LK/3. PF)
DESCRIPTION:
URL:https://arndt-gymnasium.de/event/zentralabitur-mathematik-lk-3-pf-3/
CATEGORIES:Abitur
END:VEVENT
BEGIN:VEVENT
DTSTART;VALUE=DATE:20260507
DTEND;VALUE=DATE:20260508
DTSTAMP:20260421T120222
CREATED:20260218T145757Z
LAST-MODIFIED:20260219T143855Z
UID:11807-1778112000-1778198399@arndt-gymnasium.de
SUMMARY:Q2: Sondertermin pw-2.2 (Em/Bä)
DESCRIPTION:
URL:https://arndt-gymnasium.de/event/q2-sondertermin-pw-2-2-em-ko-2/
END:VEVENT
BEGIN:VEVENT
DTSTART;VALUE=DATE:20260508
DTEND;VALUE=DATE:20260509
DTSTAMP:20260421T120222
CREATED:20260218T145758Z
LAST-MODIFIED:20260218T145758Z
UID:11808-1778198400-1778284799@arndt-gymnasium.de
SUMMARY:Zentralabitur Französisch (3. PF)
DESCRIPTION:
URL:https://arndt-gymnasium.de/event/zentralabitur-franzoesisch-3-pf-2/
CATEGORIES:Abitur
END:VEVENT
BEGIN:VEVENT
DTSTART;TZID=Europe/Berlin:20260508T180000
DTEND;TZID=Europe/Berlin:20260508T180000
DTSTAMP:20260421T120222
CREATED:20260218T145758Z
LAST-MODIFIED:20260218T145758Z
UID:11809-1778263200-1778263200@arndt-gymnasium.de
SUMMARY:Mittelstufen-Ball ???
DESCRIPTION:
URL:https://arndt-gymnasium.de/event/mittelstufen-ball/
END:VEVENT
BEGIN:VEVENT
DTSTART;VALUE=DATE:20260509
DTEND;VALUE=DATE:20260510
DTSTAMP:20260421T120222
CREATED:20260218T145758Z
LAST-MODIFIED:20260218T150320Z
UID:11810-1778284800-1778371199@arndt-gymnasium.de
SUMMARY:Nachklausuren LK/GK (Gr/Hg)
DESCRIPTION:
URL:https://arndt-gymnasium.de/event/nachklausuren-lk-gk-gb-hs-2/
CATEGORIES:Klausuren
END:VEVENT
BEGIN:VEVENT
DTSTART;VALUE=DATE:20260509
DTEND;VALUE=DATE:20260510
DTSTAMP:20260421T120222
CREATED:20260218T145800Z
LAST-MODIFIED:20260218T145800Z
UID:11811-1778284800-1778371199@arndt-gymnasium.de
SUMMARY:Musik: Grades-Prüfungen
DESCRIPTION:
URL:https://arndt-gymnasium.de/event/musik-grades-pruefungen-11/
CATEGORIES:Grades,Musik
END:VEVENT
BEGIN:VEVENT
DTSTART;VALUE=DATE:20260511
DTEND;VALUE=DATE:20260512
DTSTAMP:20260421T120222
CREATED:20260218T145800Z
LAST-MODIFIED:20260218T145800Z
UID:11812-1778457600-1778543999@arndt-gymnasium.de
SUMMARY:Zentralabitur Latein (LK)
DESCRIPTION:
URL:https://arndt-gymnasium.de/event/zentralabitur-latein-lk-3/
CATEGORIES:Abitur
END:VEVENT
BEGIN:VEVENT
DTSTART;VALUE=DATE:20260511
DTEND;VALUE=DATE:20260512
DTSTAMP:20260421T120222
CREATED:20260218T145800Z
LAST-MODIFIED:20260218T145800Z
UID:11813-1778457600-1778543999@arndt-gymnasium.de
SUMMARY:Generalprobe 9w
DESCRIPTION:
URL:https://arndt-gymnasium.de/event/generalprobe-9w/
END:VEVENT
BEGIN:VEVENT
DTSTART;TZID=Europe/Berlin:20260511T190000
DTEND;TZID=Europe/Berlin:20260511T190000
DTSTAMP:20260421T120222
CREATED:20260218T145801Z
LAST-MODIFIED:20260218T145801Z
UID:11814-1778526000-1778526000@arndt-gymnasium.de
SUMMARY:Aufführung 9w
DESCRIPTION:
URL:https://arndt-gymnasium.de/event/auffuehrung-9w/
END:VEVENT
BEGIN:VEVENT
DTSTART;VALUE=DATE:20260512
DTEND;VALUE=DATE:20260513
DTSTAMP:20260421T120222
CREATED:20260218T145822Z
LAST-MODIFIED:20260218T145822Z
UID:11816-1778544000-1778630399@arndt-gymnasium.de
SUMMARY:3. Wandertag
DESCRIPTION:
URL:https://arndt-gymnasium.de/event/3-wandertag-3/
END:VEVENT
BEGIN:VEVENT
DTSTART;VALUE=DATE:20260512
DTEND;VALUE=DATE:20260513
DTSTAMP:20260421T120222
CREATED:20260311T172431Z
LAST-MODIFIED:20260311T172431Z
UID:12045-1778544000-1778630399@arndt-gymnasium.de
SUMMARY:Verpflichtende BO Veranstaltung für Q2 in der Aula:
DESCRIPTION:3./4. Stunde Nachnamen A-K\, 5./6. Stunde Nachnamen L-Z.
URL:https://arndt-gymnasium.de/event/verpflichtende-bo-veranstaltung-fuer-q2-in-der-aula/
CATEGORIES:Berufsorientierung
END:VEVENT
END:VCALENDAR