BEGIN:VCALENDAR
VERSION:2.0
PRODID:-//Arndt-Gymnasium Dahlem - ECPv6.15.14//NONSGML v1.0//EN
CALSCALE:GREGORIAN
METHOD:PUBLISH
X-ORIGINAL-URL:https://arndt-gymnasium.de
X-WR-CALDESC:Veranstaltungen für Arndt-Gymnasium Dahlem
REFRESH-INTERVAL;VALUE=DURATION:PT1H
X-Robots-Tag:noindex
X-PUBLISHED-TTL:PT1H
BEGIN:VTIMEZONE
TZID:Europe/Berlin
BEGIN:DAYLIGHT
TZOFFSETFROM:+0100
TZOFFSETTO:+0200
TZNAME:CEST
DTSTART:20250330T010000
END:DAYLIGHT
BEGIN:STANDARD
TZOFFSETFROM:+0200
TZOFFSETTO:+0100
TZNAME:CET
DTSTART:20251026T010000
END:STANDARD
BEGIN:DAYLIGHT
TZOFFSETFROM:+0100
TZOFFSETTO:+0200
TZNAME:CEST
DTSTART:20260329T010000
END:DAYLIGHT
BEGIN:STANDARD
TZOFFSETFROM:+0200
TZOFFSETTO:+0100
TZNAME:CET
DTSTART:20261025T010000
END:STANDARD
BEGIN:DAYLIGHT
TZOFFSETFROM:+0100
TZOFFSETTO:+0200
TZNAME:CEST
DTSTART:20270328T010000
END:DAYLIGHT
BEGIN:STANDARD
TZOFFSETFROM:+0200
TZOFFSETTO:+0100
TZNAME:CET
DTSTART:20271031T010000
END:STANDARD
END:VTIMEZONE
BEGIN:VEVENT
DTSTART;VALUE=DATE:20260318
DTEND;VALUE=DATE:20260319
DTSTAMP:20260421T122735
CREATED:20260217T115708Z
LAST-MODIFIED:20260217T115708Z
UID:11704-1773792000-1773878399@arndt-gymnasium.de
SUMMARY:Klausuren GK Q2
DESCRIPTION:
URL:https://arndt-gymnasium.de/event/klausuren-gk-q2-2/
CATEGORIES:Klausuren
END:VEVENT
BEGIN:VEVENT
DTSTART;VALUE=DATE:20260318
DTEND;VALUE=DATE:20260319
DTSTAMP:20260421T122735
CREATED:20260217T115814Z
LAST-MODIFIED:20260217T120126Z
UID:11706-1773792000-1773878399@arndt-gymnasium.de
SUMMARY:Klausur 9. Klasse (Wahlpflichtfach)
DESCRIPTION:Französisch (Wi/Poe)\, Griechisch (Bs/Rp)\, Mint (Ml/Ser/Bis)
URL:https://arndt-gymnasium.de/event/klausur-9-klasse-wahlpflichtfach/
CATEGORIES:Klausuren
END:VEVENT
BEGIN:VEVENT
DTSTART;VALUE=DATE:20260318
DTEND;VALUE=DATE:20260319
DTSTAMP:20260421T122735
CREATED:20260217T120216Z
LAST-MODIFIED:20260217T120217Z
UID:11708-1773792000-1773878399@arndt-gymnasium.de
SUMMARY:Notenschluss Q4
DESCRIPTION:
URL:https://arndt-gymnasium.de/event/notenschluss-q4/
CATEGORIES:Notenschluss
END:VEVENT
END:VCALENDAR