BEGIN:VCALENDAR
VERSION:2.0
PRODID:-//Arndt-Gymnasium Dahlem - ECPv6.15.14//NONSGML v1.0//EN
CALSCALE:GREGORIAN
METHOD:PUBLISH
X-WR-CALNAME:Arndt-Gymnasium Dahlem
X-ORIGINAL-URL:https://arndt-gymnasium.de
X-WR-CALDESC:Veranstaltungen für Arndt-Gymnasium Dahlem
REFRESH-INTERVAL;VALUE=DURATION:PT1H
X-Robots-Tag:noindex
X-PUBLISHED-TTL:PT1H
BEGIN:VTIMEZONE
TZID:Europe/Berlin
BEGIN:DAYLIGHT
TZOFFSETFROM:+0100
TZOFFSETTO:+0200
TZNAME:CEST
DTSTART:20240331T010000
END:DAYLIGHT
BEGIN:STANDARD
TZOFFSETFROM:+0200
TZOFFSETTO:+0100
TZNAME:CET
DTSTART:20241027T010000
END:STANDARD
BEGIN:DAYLIGHT
TZOFFSETFROM:+0100
TZOFFSETTO:+0200
TZNAME:CEST
DTSTART:20250330T010000
END:DAYLIGHT
BEGIN:STANDARD
TZOFFSETFROM:+0200
TZOFFSETTO:+0100
TZNAME:CET
DTSTART:20251026T010000
END:STANDARD
BEGIN:DAYLIGHT
TZOFFSETFROM:+0100
TZOFFSETTO:+0200
TZNAME:CEST
DTSTART:20260329T010000
END:DAYLIGHT
BEGIN:STANDARD
TZOFFSETFROM:+0200
TZOFFSETTO:+0100
TZNAME:CET
DTSTART:20261025T010000
END:STANDARD
END:VTIMEZONE
BEGIN:VEVENT
DTSTART;TZID=Europe/Berlin:20250708T130000
DTEND;TZID=Europe/Berlin:20250708T130000
DTSTAMP:20260423T114529
CREATED:20250427T164852Z
LAST-MODIFIED:20250427T164852Z
UID:10561-1751979600-1751979600@arndt-gymnasium.de
SUMMARY:Zeugniskonferenzen Sek I / Sek II
DESCRIPTION:
URL:https://arndt-gymnasium.de/event/zeugniskonferenzen-sek-i-sek-ii/
CATEGORIES:Konferenzen
END:VEVENT
END:VCALENDAR