BEGIN:VCALENDAR
VERSION:2.0
PRODID:-//Arndt-Gymnasium Dahlem - ECPv6.15.14//NONSGML v1.0//EN
CALSCALE:GREGORIAN
METHOD:PUBLISH
X-ORIGINAL-URL:https://arndt-gymnasium.de
X-WR-CALDESC:Veranstaltungen für Arndt-Gymnasium Dahlem
REFRESH-INTERVAL;VALUE=DURATION:PT1H
X-Robots-Tag:noindex
X-PUBLISHED-TTL:PT1H
BEGIN:VTIMEZONE
TZID:Europe/Berlin
BEGIN:DAYLIGHT
TZOFFSETFROM:+0100
TZOFFSETTO:+0200
TZNAME:CEST
DTSTART:20240331T010000
END:DAYLIGHT
BEGIN:STANDARD
TZOFFSETFROM:+0200
TZOFFSETTO:+0100
TZNAME:CET
DTSTART:20241027T010000
END:STANDARD
BEGIN:DAYLIGHT
TZOFFSETFROM:+0100
TZOFFSETTO:+0200
TZNAME:CEST
DTSTART:20250330T010000
END:DAYLIGHT
BEGIN:STANDARD
TZOFFSETFROM:+0200
TZOFFSETTO:+0100
TZNAME:CET
DTSTART:20251026T010000
END:STANDARD
BEGIN:DAYLIGHT
TZOFFSETFROM:+0100
TZOFFSETTO:+0200
TZNAME:CEST
DTSTART:20260329T010000
END:DAYLIGHT
BEGIN:STANDARD
TZOFFSETFROM:+0200
TZOFFSETTO:+0100
TZNAME:CET
DTSTART:20261025T010000
END:STANDARD
END:VTIMEZONE
BEGIN:VEVENT
DTSTART;VALUE=DATE:20250611
DTEND;VALUE=DATE:20250612
DTSTAMP:20260423T140701
CREATED:20240919T125600Z
LAST-MODIFIED:20250505T170205Z
UID:9969-1749600000-1749686399@arndt-gymnasium.de
SUMMARY:Zentraler Nachschreibetermin Geschichte (LK)\, Geographie (LK) + dezentrales Abitur PW (LK)\, MU (LK)\, KU (LK)
DESCRIPTION:
URL:https://arndt-gymnasium.de/event/zentraler-nachschreibetermin-geschichte-lk-geographie-lk-dezentrales-abitur-pw-lk-mu-lk-ku-lk/
CATEGORIES:Abitur,Klausuren
END:VEVENT
BEGIN:VEVENT
DTSTART;VALUE=DATE:20250611
DTEND;VALUE=DATE:20250612
DTSTAMP:20260423T140701
CREATED:20240919T125628Z
LAST-MODIFIED:20250505T170144Z
UID:9971-1749600000-1749686399@arndt-gymnasium.de
SUMMARY:Spätestens: Übergabe der korrigierten Abiturarbeiten an den OKO
DESCRIPTION:
URL:https://arndt-gymnasium.de/event/spaetestens-uebergabe-der-korrigierten-abiturarbeiten-an-den-oko/
CATEGORIES:Abitur
END:VEVENT
BEGIN:VEVENT
DTSTART;VALUE=DATE:20250611
DTEND;VALUE=DATE:20250614
DTSTAMP:20260423T140701
CREATED:20240919T125710Z
LAST-MODIFIED:20250114T075432Z
UID:9973-1749600000-1749859199@arndt-gymnasium.de
SUMMARY:Prüfungen im 4. PF
DESCRIPTION:vereinzelt Unterricht\, Klassenarbeiten\, KSL nach Absprache\, Berufsberatung Q2
URL:https://arndt-gymnasium.de/event/pruefungen-im-4-pf-4/
END:VEVENT
END:VCALENDAR