BEGIN:VCALENDAR
VERSION:2.0
PRODID:-//Arndt-Gymnasium Dahlem - ECPv6.15.14//NONSGML v1.0//EN
CALSCALE:GREGORIAN
METHOD:PUBLISH
X-ORIGINAL-URL:https://arndt-gymnasium.de
X-WR-CALDESC:Veranstaltungen für Arndt-Gymnasium Dahlem
REFRESH-INTERVAL;VALUE=DURATION:PT1H
X-Robots-Tag:noindex
X-PUBLISHED-TTL:PT1H
BEGIN:VTIMEZONE
TZID:Europe/Berlin
BEGIN:DAYLIGHT
TZOFFSETFROM:+0100
TZOFFSETTO:+0200
TZNAME:CEST
DTSTART:20240331T010000
END:DAYLIGHT
BEGIN:STANDARD
TZOFFSETFROM:+0200
TZOFFSETTO:+0100
TZNAME:CET
DTSTART:20241027T010000
END:STANDARD
BEGIN:DAYLIGHT
TZOFFSETFROM:+0100
TZOFFSETTO:+0200
TZNAME:CEST
DTSTART:20250330T010000
END:DAYLIGHT
BEGIN:STANDARD
TZOFFSETFROM:+0200
TZOFFSETTO:+0100
TZNAME:CET
DTSTART:20251026T010000
END:STANDARD
BEGIN:DAYLIGHT
TZOFFSETFROM:+0100
TZOFFSETTO:+0200
TZNAME:CEST
DTSTART:20260329T010000
END:DAYLIGHT
BEGIN:STANDARD
TZOFFSETFROM:+0200
TZOFFSETTO:+0100
TZNAME:CET
DTSTART:20261025T010000
END:STANDARD
END:VTIMEZONE
BEGIN:VEVENT
DTSTART;VALUE=DATE:20250522
DTEND;VALUE=DATE:20250523
DTSTAMP:20260423T160347
CREATED:20241010T123502Z
LAST-MODIFIED:20241010T123502Z
UID:10072-1747872000-1747958399@arndt-gymnasium.de
SUMMARY:Aufführung DS 9w
DESCRIPTION:
URL:https://arndt-gymnasium.de/event/auffuehrung-ds-9w/
END:VEVENT
BEGIN:VEVENT
DTSTART;VALUE=DATE:20250522
DTEND;VALUE=DATE:20250523
DTSTAMP:20260423T160347
CREATED:20250427T160652Z
LAST-MODIFIED:20250427T160652Z
UID:10527-1747872000-1747958399@arndt-gymnasium.de
SUMMARY:Klausuren WPF 9. (Frz\, Gr\, NT) und 10. Klasse (Inf\, NT\, Theater)
DESCRIPTION:
URL:https://arndt-gymnasium.de/event/klausuren-wpf-9-frz-gr-nt-und-10-klasse-inf-nt-theater/
END:VEVENT
END:VCALENDAR