BEGIN:VCALENDAR
VERSION:2.0
PRODID:-//Arndt-Gymnasium Dahlem - ECPv6.15.14//NONSGML v1.0//EN
CALSCALE:GREGORIAN
METHOD:PUBLISH
X-WR-CALNAME:Arndt-Gymnasium Dahlem
X-ORIGINAL-URL:https://arndt-gymnasium.de
X-WR-CALDESC:Veranstaltungen für Arndt-Gymnasium Dahlem
REFRESH-INTERVAL;VALUE=DURATION:PT1H
X-Robots-Tag:noindex
X-PUBLISHED-TTL:PT1H
BEGIN:VTIMEZONE
TZID:Europe/Berlin
BEGIN:DAYLIGHT
TZOFFSETFROM:+0100
TZOFFSETTO:+0200
TZNAME:CEST
DTSTART:20240331T010000
END:DAYLIGHT
BEGIN:STANDARD
TZOFFSETFROM:+0200
TZOFFSETTO:+0100
TZNAME:CET
DTSTART:20241027T010000
END:STANDARD
BEGIN:DAYLIGHT
TZOFFSETFROM:+0100
TZOFFSETTO:+0200
TZNAME:CEST
DTSTART:20250330T010000
END:DAYLIGHT
BEGIN:STANDARD
TZOFFSETFROM:+0200
TZOFFSETTO:+0100
TZNAME:CET
DTSTART:20251026T010000
END:STANDARD
BEGIN:DAYLIGHT
TZOFFSETFROM:+0100
TZOFFSETTO:+0200
TZNAME:CEST
DTSTART:20260329T010000
END:DAYLIGHT
BEGIN:STANDARD
TZOFFSETFROM:+0200
TZOFFSETTO:+0100
TZNAME:CET
DTSTART:20261025T010000
END:STANDARD
END:VTIMEZONE
BEGIN:VEVENT
DTSTART;VALUE=DATE:20250512
DTEND;VALUE=DATE:20250513
DTSTAMP:20260425T122132
CREATED:20240919T123115Z
LAST-MODIFIED:20250106T065845Z
UID:9935-1747008000-1747094399@arndt-gymnasium.de
SUMMARY:Zentralabitur Altgriechisch (LK)
DESCRIPTION:
URL:https://arndt-gymnasium.de/event/zentralabitur-altgriechisch-lk/
END:VEVENT
BEGIN:VEVENT
DTSTART;VALUE=DATE:20250512
DTEND;VALUE=DATE:20250513
DTSTAMP:20260425T122132
CREATED:20250427T155918Z
LAST-MODIFIED:20250427T155918Z
UID:10519-1747008000-1747094399@arndt-gymnasium.de
SUMMARY:Klausuren WPF 8. Klasse (Frz\, Gr\, NT)
DESCRIPTION:
URL:https://arndt-gymnasium.de/event/klausuren-wpf-8-klasse-frz-gr-nt/
END:VEVENT
END:VCALENDAR