BEGIN:VCALENDAR
VERSION:2.0
PRODID:-//Arndt-Gymnasium Dahlem - ECPv6.15.14//NONSGML v1.0//EN
CALSCALE:GREGORIAN
METHOD:PUBLISH
X-WR-CALNAME:Arndt-Gymnasium Dahlem
X-ORIGINAL-URL:https://arndt-gymnasium.de
X-WR-CALDESC:Veranstaltungen für Arndt-Gymnasium Dahlem
REFRESH-INTERVAL;VALUE=DURATION:PT1H
X-Robots-Tag:noindex
X-PUBLISHED-TTL:PT1H
BEGIN:VTIMEZONE
TZID:Europe/Berlin
BEGIN:DAYLIGHT
TZOFFSETFROM:+0100
TZOFFSETTO:+0200
TZNAME:CEST
DTSTART:20240331T010000
END:DAYLIGHT
BEGIN:STANDARD
TZOFFSETFROM:+0200
TZOFFSETTO:+0100
TZNAME:CET
DTSTART:20241027T010000
END:STANDARD
BEGIN:DAYLIGHT
TZOFFSETFROM:+0100
TZOFFSETTO:+0200
TZNAME:CEST
DTSTART:20250330T010000
END:DAYLIGHT
BEGIN:STANDARD
TZOFFSETFROM:+0200
TZOFFSETTO:+0100
TZNAME:CET
DTSTART:20251026T010000
END:STANDARD
BEGIN:DAYLIGHT
TZOFFSETFROM:+0100
TZOFFSETTO:+0200
TZNAME:CEST
DTSTART:20260329T010000
END:DAYLIGHT
BEGIN:STANDARD
TZOFFSETFROM:+0200
TZOFFSETTO:+0100
TZNAME:CET
DTSTART:20261025T010000
END:STANDARD
END:VTIMEZONE
BEGIN:VEVENT
DTSTART;VALUE=DATE:20250401
DTEND;VALUE=DATE:20250402
DTSTAMP:20260423T175231
CREATED:20240913T132626Z
LAST-MODIFIED:20240913T132629Z
UID:9895-1743465600-1743551999@arndt-gymnasium.de
SUMMARY:Letzter regulärer Unterrichtstag für Abiturienten
DESCRIPTION:
URL:https://arndt-gymnasium.de/event/letzter-regulaerer-unterrichtstag-fuer-abiturienten/
END:VEVENT
BEGIN:VEVENT
DTSTART;TZID=Europe/Berlin:20250401T090000
DTEND;TZID=Europe/Berlin:20250401T090000
DTSTAMP:20260423T175231
CREATED:20240913T132338Z
LAST-MODIFIED:20240913T132343Z
UID:9891-1743498000-1743498000@arndt-gymnasium.de
SUMMARY:Bekanntgabe der Abschlussbewertung des 4. Semesters und der Zulassungsentscheidung
DESCRIPTION:
URL:https://arndt-gymnasium.de/event/bekanntgabe-der-abschlussbewertung-des-4-semesters-und-der-zulassungsentscheidung/
END:VEVENT
END:VCALENDAR