BEGIN:VCALENDAR
VERSION:2.0
PRODID:-//Arndt-Gymnasium Dahlem - ECPv6.15.14//NONSGML v1.0//EN
CALSCALE:GREGORIAN
METHOD:PUBLISH
X-ORIGINAL-URL:https://arndt-gymnasium.de
X-WR-CALDESC:Veranstaltungen für Arndt-Gymnasium Dahlem
REFRESH-INTERVAL;VALUE=DURATION:PT1H
X-Robots-Tag:noindex
X-PUBLISHED-TTL:PT1H
BEGIN:VTIMEZONE
TZID:Europe/Berlin
BEGIN:DAYLIGHT
TZOFFSETFROM:+0100
TZOFFSETTO:+0200
TZNAME:CEST
DTSTART:20240331T010000
END:DAYLIGHT
BEGIN:STANDARD
TZOFFSETFROM:+0200
TZOFFSETTO:+0100
TZNAME:CET
DTSTART:20241027T010000
END:STANDARD
BEGIN:DAYLIGHT
TZOFFSETFROM:+0100
TZOFFSETTO:+0200
TZNAME:CEST
DTSTART:20250330T010000
END:DAYLIGHT
BEGIN:STANDARD
TZOFFSETFROM:+0200
TZOFFSETTO:+0100
TZNAME:CET
DTSTART:20251026T010000
END:STANDARD
BEGIN:DAYLIGHT
TZOFFSETFROM:+0100
TZOFFSETTO:+0200
TZNAME:CEST
DTSTART:20260329T010000
END:DAYLIGHT
BEGIN:STANDARD
TZOFFSETFROM:+0200
TZOFFSETTO:+0100
TZNAME:CET
DTSTART:20261025T010000
END:STANDARD
END:VTIMEZONE
BEGIN:VEVENT
DTSTART;VALUE=DATE:20250227
DTEND;VALUE=DATE:20250228
DTSTAMP:20260425T135109
CREATED:20240930T083728Z
LAST-MODIFIED:20240930T083728Z
UID:10056-1740614400-1740700799@arndt-gymnasium.de
SUMMARY:Kurzstunden!
DESCRIPTION:
URL:https://arndt-gymnasium.de/event/kurzstunden-2/
END:VEVENT
BEGIN:VEVENT
DTSTART;TZID=Europe/Berlin:20250227T163000
DTEND;TZID=Europe/Berlin:20250227T173000
DTSTAMP:20260425T135109
CREATED:20240930T083632Z
LAST-MODIFIED:20240930T083632Z
UID:10052-1740673800-1740677400@arndt-gymnasium.de
SUMMARY:Information zum Wahlpflichtunterricht für Klasse 7
DESCRIPTION:
URL:https://arndt-gymnasium.de/event/information-zum-wahlpflichtunterricht-fuer-klasse-7/
END:VEVENT
BEGIN:VEVENT
DTSTART;TZID=Europe/Berlin:20250227T173000
DTEND;TZID=Europe/Berlin:20250227T200000
DTSTAMP:20260425T135109
CREATED:20240930T083708Z
LAST-MODIFIED:20240930T083708Z
UID:10054-1740677400-1740686400@arndt-gymnasium.de
SUMMARY:Elternsprechabend
DESCRIPTION:
URL:https://arndt-gymnasium.de/event/elternsprechabend-2/
END:VEVENT
END:VCALENDAR