BEGIN:VCALENDAR
VERSION:2.0
PRODID:-//Arndt-Gymnasium Dahlem - ECPv6.15.14//NONSGML v1.0//EN
CALSCALE:GREGORIAN
METHOD:PUBLISH
X-WR-CALNAME:Arndt-Gymnasium Dahlem
X-ORIGINAL-URL:https://arndt-gymnasium.de
X-WR-CALDESC:Veranstaltungen für Arndt-Gymnasium Dahlem
REFRESH-INTERVAL;VALUE=DURATION:PT1H
X-Robots-Tag:noindex
X-PUBLISHED-TTL:PT1H
BEGIN:VTIMEZONE
TZID:Europe/Berlin
BEGIN:DAYLIGHT
TZOFFSETFROM:+0100
TZOFFSETTO:+0200
TZNAME:CEST
DTSTART:20230326T010000
END:DAYLIGHT
BEGIN:STANDARD
TZOFFSETFROM:+0200
TZOFFSETTO:+0100
TZNAME:CET
DTSTART:20231029T010000
END:STANDARD
BEGIN:DAYLIGHT
TZOFFSETFROM:+0100
TZOFFSETTO:+0200
TZNAME:CEST
DTSTART:20240331T010000
END:DAYLIGHT
BEGIN:STANDARD
TZOFFSETFROM:+0200
TZOFFSETTO:+0100
TZNAME:CET
DTSTART:20241027T010000
END:STANDARD
BEGIN:DAYLIGHT
TZOFFSETFROM:+0100
TZOFFSETTO:+0200
TZNAME:CEST
DTSTART:20250330T010000
END:DAYLIGHT
BEGIN:STANDARD
TZOFFSETFROM:+0200
TZOFFSETTO:+0100
TZNAME:CET
DTSTART:20251026T010000
END:STANDARD
END:VTIMEZONE
BEGIN:VEVENT
DTSTART;VALUE=DATE:20241209
DTEND;VALUE=DATE:20241210
DTSTAMP:20260425T164940
CREATED:20240909T083910Z
LAST-MODIFIED:20240909T083914Z
UID:9782-1733702400-1733788799@arndt-gymnasium.de
SUMMARY:Abgabe der dezentralen Abiturvorschläge bei der Schulleitung
DESCRIPTION:
URL:https://arndt-gymnasium.de/event/abgabe-der-dezentralen-abiturvorschlaege-bei-der-schulleitung/
END:VEVENT
BEGIN:VEVENT
DTSTART;VALUE=DATE:20241209
DTEND;VALUE=DATE:20241210
DTSTAMP:20260425T164940
CREATED:20240909T084016Z
LAST-MODIFIED:20240909T084032Z
UID:9784-1733702400-1733788799@arndt-gymnasium.de
SUMMARY:Klausuren GK Q1/Q3
DESCRIPTION:
URL:https://arndt-gymnasium.de/event/klausuren-gk-q1-q3-16/
END:VEVENT
BEGIN:VEVENT
DTSTART;VALUE=DATE:20241209
DTEND;VALUE=DATE:20241210
DTSTAMP:20260425T164940
CREATED:20240909T084117Z
LAST-MODIFIED:20240909T084121Z
UID:9786-1733702400-1733788799@arndt-gymnasium.de
SUMMARY:8. Klasse Wahlpflichtfach: Französisch\, Griechisch\, NT
DESCRIPTION:
URL:https://arndt-gymnasium.de/event/8-klasse-wahlpflichtfach-franzoesisch-griechisch-nt/
END:VEVENT
END:VCALENDAR