BEGIN:VCALENDAR
VERSION:2.0
PRODID:-//Arndt-Gymnasium Dahlem - ECPv6.15.14//NONSGML v1.0//EN
CALSCALE:GREGORIAN
METHOD:PUBLISH
X-ORIGINAL-URL:https://arndt-gymnasium.de
X-WR-CALDESC:Veranstaltungen für Arndt-Gymnasium Dahlem
REFRESH-INTERVAL;VALUE=DURATION:PT1H
X-Robots-Tag:noindex
X-PUBLISHED-TTL:PT1H
BEGIN:VTIMEZONE
TZID:Europe/Berlin
BEGIN:DAYLIGHT
TZOFFSETFROM:+0100
TZOFFSETTO:+0200
TZNAME:CEST
DTSTART:20230326T010000
END:DAYLIGHT
BEGIN:STANDARD
TZOFFSETFROM:+0200
TZOFFSETTO:+0100
TZNAME:CET
DTSTART:20231029T010000
END:STANDARD
BEGIN:DAYLIGHT
TZOFFSETFROM:+0100
TZOFFSETTO:+0200
TZNAME:CEST
DTSTART:20240331T010000
END:DAYLIGHT
BEGIN:STANDARD
TZOFFSETFROM:+0200
TZOFFSETTO:+0100
TZNAME:CET
DTSTART:20241027T010000
END:STANDARD
BEGIN:DAYLIGHT
TZOFFSETFROM:+0100
TZOFFSETTO:+0200
TZNAME:CEST
DTSTART:20250330T010000
END:DAYLIGHT
BEGIN:STANDARD
TZOFFSETFROM:+0200
TZOFFSETTO:+0100
TZNAME:CET
DTSTART:20251026T010000
END:STANDARD
END:VTIMEZONE
BEGIN:VEVENT
DTSTART;VALUE=DATE:20241119
DTEND;VALUE=DATE:20241130
DTSTAMP:20260425T181651
CREATED:20240909T075221Z
LAST-MODIFIED:20240909T075225Z
UID:9714-1731974400-1732924799@arndt-gymnasium.de
SUMMARY:7. Klasse: Komm auf Tour
DESCRIPTION:
URL:https://arndt-gymnasium.de/event/7-klasse-komm-auf-tour/
END:VEVENT
BEGIN:VEVENT
DTSTART;VALUE=DATE:20241129
DTEND;VALUE=DATE:20241130
DTSTAMP:20260425T181651
CREATED:20240909T082001Z
LAST-MODIFIED:20240909T082005Z
UID:9756-1732838400-1732924799@arndt-gymnasium.de
SUMMARY:10. Klasse Wahlpflichtfach: Theater\, Kunst\, Musik
DESCRIPTION:
URL:https://arndt-gymnasium.de/event/10-klasse-wahlpflichtfach-theater-kunst-musik/
END:VEVENT
BEGIN:VEVENT
DTSTART;TZID=Europe/Berlin:20241129T190000
DTEND;TZID=Europe/Berlin:20241129T190000
DTSTAMP:20260425T181651
CREATED:20240909T082051Z
LAST-MODIFIED:20240909T082055Z
UID:9758-1732906800-1732906800@arndt-gymnasium.de
SUMMARY:Jazznight Goethe-Gymnasium
DESCRIPTION:
URL:https://arndt-gymnasium.de/event/jazznight-goethe-gymnasium-2/
END:VEVENT
END:VCALENDAR