BEGIN:VCALENDAR
VERSION:2.0
PRODID:-//Arndt-Gymnasium Dahlem - ECPv6.15.14//NONSGML v1.0//EN
CALSCALE:GREGORIAN
METHOD:PUBLISH
X-ORIGINAL-URL:https://arndt-gymnasium.de
X-WR-CALDESC:Veranstaltungen für Arndt-Gymnasium Dahlem
REFRESH-INTERVAL;VALUE=DURATION:PT1H
X-Robots-Tag:noindex
X-PUBLISHED-TTL:PT1H
BEGIN:VTIMEZONE
TZID:Europe/Berlin
BEGIN:DAYLIGHT
TZOFFSETFROM:+0100
TZOFFSETTO:+0200
TZNAME:CEST
DTSTART:20230326T010000
END:DAYLIGHT
BEGIN:STANDARD
TZOFFSETFROM:+0200
TZOFFSETTO:+0100
TZNAME:CET
DTSTART:20231029T010000
END:STANDARD
BEGIN:DAYLIGHT
TZOFFSETFROM:+0100
TZOFFSETTO:+0200
TZNAME:CEST
DTSTART:20240331T010000
END:DAYLIGHT
BEGIN:STANDARD
TZOFFSETFROM:+0200
TZOFFSETTO:+0100
TZNAME:CET
DTSTART:20241027T010000
END:STANDARD
BEGIN:DAYLIGHT
TZOFFSETFROM:+0100
TZOFFSETTO:+0200
TZNAME:CEST
DTSTART:20250330T010000
END:DAYLIGHT
BEGIN:STANDARD
TZOFFSETFROM:+0200
TZOFFSETTO:+0100
TZNAME:CET
DTSTART:20251026T010000
END:STANDARD
END:VTIMEZONE
BEGIN:VEVENT
DTSTART;VALUE=DATE:20241119
DTEND;VALUE=DATE:20241130
DTSTAMP:20260425T165100
CREATED:20240909T075221Z
LAST-MODIFIED:20240909T075225Z
UID:9714-1731974400-1732924799@arndt-gymnasium.de
SUMMARY:7. Klasse: Komm auf Tour
DESCRIPTION:
URL:https://arndt-gymnasium.de/event/7-klasse-komm-auf-tour/
END:VEVENT
BEGIN:VEVENT
DTSTART;VALUE=DATE:20241126
DTEND;VALUE=DATE:20241127
DTSTAMP:20260425T165100
CREATED:20240909T080905Z
LAST-MODIFIED:20240909T080910Z
UID:9742-1732579200-1732665599@arndt-gymnasium.de
SUMMARY:3. GK
DESCRIPTION:
URL:https://arndt-gymnasium.de/event/3-gk-2/
END:VEVENT
BEGIN:VEVENT
DTSTART;VALUE=DATE:20241126
DTEND;VALUE=DATE:20241127
DTSTAMP:20260425T165100
CREATED:20240909T080957Z
LAST-MODIFIED:20240909T081001Z
UID:9744-1732579200-1732665599@arndt-gymnasium.de
SUMMARY:2. Elternabend (1. Termin)
DESCRIPTION:
URL:https://arndt-gymnasium.de/event/2-elternabend-1-termin-2/
END:VEVENT
BEGIN:VEVENT
DTSTART;VALUE=DATE:20241126
DTEND;VALUE=DATE:20241127
DTSTAMP:20260425T165100
CREATED:20240909T081023Z
LAST-MODIFIED:20240909T081027Z
UID:9746-1732579200-1732665599@arndt-gymnasium.de
SUMMARY:LK-Schiene A
DESCRIPTION:
URL:https://arndt-gymnasium.de/event/lk-schiene-a-3/
END:VEVENT
END:VCALENDAR